BEGIN:VCALENDAR
VERSION:2.0
PRODID:-//Vahdon VPK - ECPv6.6.4.1//NONSGML v1.0//EN
CALSCALE:GREGORIAN
METHOD:PUBLISH
X-WR-CALNAME:Vahdon VPK
X-ORIGINAL-URL:https://www.vahdonvpk.net
X-WR-CALDESC:Events for Vahdon VPK
REFRESH-INTERVAL;VALUE=DURATION:PT1H
X-Robots-Tag:noindex
X-PUBLISHED-TTL:PT1H
BEGIN:VTIMEZONE
TZID:Europe/Helsinki
BEGIN:DAYLIGHT
TZOFFSETFROM:+0200
TZOFFSETTO:+0300
TZNAME:EEST
DTSTART:20220327T010000
END:DAYLIGHT
BEGIN:STANDARD
TZOFFSETFROM:+0300
TZOFFSETTO:+0200
TZNAME:EET
DTSTART:20221030T010000
END:STANDARD
BEGIN:DAYLIGHT
TZOFFSETFROM:+0200
TZOFFSETTO:+0300
TZNAME:EEST
DTSTART:20230326T010000
END:DAYLIGHT
BEGIN:STANDARD
TZOFFSETFROM:+0300
TZOFFSETTO:+0200
TZNAME:EET
DTSTART:20231029T010000
END:STANDARD
BEGIN:DAYLIGHT
TZOFFSETFROM:+0200
TZOFFSETTO:+0300
TZNAME:EEST
DTSTART:20240331T010000
END:DAYLIGHT
BEGIN:STANDARD
TZOFFSETFROM:+0300
TZOFFSETTO:+0200
TZNAME:EET
DTSTART:20241027T010000
END:STANDARD
END:VTIMEZONE
BEGIN:VEVENT
DTSTART;TZID=Europe/Helsinki:20241104T180000
DTEND;TZID=Europe/Helsinki:20241104T200000
DTSTAMP:20260422T221642
CREATED:20241024T081450Z
LAST-MODIFIED:20241024T081450Z
UID:2395-1730743200-1730750400@www.vahdonvpk.net
SUMMARY:Veteraaniosaston kerhoilta
DESCRIPTION:Kerhoilta pidetään paloasemalla Maanantaina 4.11.2024 klo 18.00.Tervetuloa.
URL:https://www.vahdonvpk.net/tapahtuma/veteraaniosaston-kerhoilta/
LOCATION:Paloasema
CATEGORIES:Veteraaniosasto
END:VEVENT
BEGIN:VEVENT
DTSTART;TZID=Europe/Helsinki:20240205T170000
DTEND;TZID=Europe/Helsinki:20240205T190000
DTSTAMP:20260422T221642
CREATED:20240130T131918Z
LAST-MODIFIED:20240130T131918Z
UID:2197-1707152400-1707159600@www.vahdonvpk.net
SUMMARY:Veteraaniosasto
DESCRIPTION:Veteraaniosaston kerhoilta pidetään Maanantaina 5.2. klo 17.00 paloasemalla tervetuloa Lars.
URL:https://www.vahdonvpk.net/tapahtuma/veteraaniosasto-2/
CATEGORIES:Veteraaniosasto
END:VEVENT
BEGIN:VEVENT
DTSTART;TZID=Europe/Helsinki:20230508T180000
DTEND;TZID=Europe/Helsinki:20230508T200000
DTSTAMP:20260422T221642
CREATED:20230502T080427Z
LAST-MODIFIED:20230502T080427Z
UID:1882-1683568800-1683576000@www.vahdonvpk.net
SUMMARY:Veteraaniosasto
DESCRIPTION:Veteraani osaston kerhoilta Maanantaina 8.5.klo 18.00.Paloasemalla. Tervetuloa Lars
URL:https://www.vahdonvpk.net/tapahtuma/veteraaniosasto/
LOCATION:Paloasema
CATEGORIES:Veteraaniosasto
END:VEVENT
BEGIN:VEVENT
DTSTART;TZID=Europe/Helsinki:20230327T180000
DTEND;TZID=Europe/Helsinki:20230327T200000
DTSTAMP:20260422T221642
CREATED:20230320T142525Z
LAST-MODIFIED:20230320T142525Z
UID:1804-1679940000-1679947200@www.vahdonvpk.net
SUMMARY:Veteraaniosaston Kevät kokous
DESCRIPTION:Veteraaniosaston kevät kokous pidetään paloasemalla .Maanantaina 27.3.23 klo 18.00 .Tervetuloa.lars
URL:https://www.vahdonvpk.net/tapahtuma/veteraaniosaston-kevat-kokous/
LOCATION:Paloasema
CATEGORIES:Veteraaniosasto
END:VEVENT
BEGIN:VEVENT
DTSTART;TZID=Europe/Helsinki:20221024T080000
DTEND;TZID=Europe/Helsinki:20221101T200000
DTSTAMP:20260422T221642
CREATED:20221024T080836Z
LAST-MODIFIED:20221024T080836Z
UID:1482-1666598400-1667332800@www.vahdonvpk.net
SUMMARY:Veteraaniosaston Syyskokous.
DESCRIPTION:Syyskokous pidetään 31.10.2022.klo 18.00 Paloasemalla. Tervetuloa myös uudet jäsenet.T.Lars.
URL:https://www.vahdonvpk.net/tapahtuma/veteraaniosaston-syyskokous/
CATEGORIES:Veteraaniosasto
END:VEVENT
END:VCALENDAR