BEGIN:VCALENDAR
VERSION:2.0
PRODID:-//Vahdon VPK - ECPv6.6.4.1//NONSGML v1.0//EN
CALSCALE:GREGORIAN
METHOD:PUBLISH
X-ORIGINAL-URL:https://www.vahdonvpk.net
X-WR-CALDESC:Events for Vahdon VPK
REFRESH-INTERVAL;VALUE=DURATION:PT1H
X-Robots-Tag:noindex
X-PUBLISHED-TTL:PT1H
BEGIN:VTIMEZONE
TZID:Europe/Helsinki
BEGIN:DAYLIGHT
TZOFFSETFROM:+0200
TZOFFSETTO:+0300
TZNAME:EEST
DTSTART:20240331T010000
END:DAYLIGHT
BEGIN:STANDARD
TZOFFSETFROM:+0300
TZOFFSETTO:+0200
TZNAME:EET
DTSTART:20241027T010000
END:STANDARD
END:VTIMEZONE
BEGIN:VEVENT
DTSTART;TZID=Europe/Helsinki:20240205T170000
DTEND;TZID=Europe/Helsinki:20240205T190000
DTSTAMP:20260424T113303
CREATED:20240130T131918Z
LAST-MODIFIED:20240130T131918Z
UID:2197-1707152400-1707159600@www.vahdonvpk.net
SUMMARY:Veteraaniosasto
DESCRIPTION:Veteraaniosaston kerhoilta pidetään Maanantaina 5.2. klo 17.00 paloasemalla tervetuloa Lars.
URL:https://www.vahdonvpk.net/tapahtuma/veteraaniosasto-2/
CATEGORIES:Veteraaniosasto
END:VEVENT
END:VCALENDAR