BEGIN:VCALENDAR
VERSION:2.0
PRODID:-//Vahdon VPK - ECPv6.6.4.1//NONSGML v1.0//EN
CALSCALE:GREGORIAN
METHOD:PUBLISH
X-WR-CALNAME:Vahdon VPK
X-ORIGINAL-URL:https://www.vahdonvpk.net
X-WR-CALDESC:Events for Vahdon VPK
REFRESH-INTERVAL;VALUE=DURATION:PT1H
X-Robots-Tag:noindex
X-PUBLISHED-TTL:PT1H
BEGIN:VTIMEZONE
TZID:Europe/Helsinki
BEGIN:DAYLIGHT
TZOFFSETFROM:+0200
TZOFFSETTO:+0300
TZNAME:EEST
DTSTART:20240331T010000
END:DAYLIGHT
BEGIN:STANDARD
TZOFFSETFROM:+0300
TZOFFSETTO:+0200
TZNAME:EET
DTSTART:20241027T010000
END:STANDARD
END:VTIMEZONE
BEGIN:VEVENT
DTSTART;TZID=Europe/Helsinki:20241104T180000
DTEND;TZID=Europe/Helsinki:20241104T200000
DTSTAMP:20260423T222152
CREATED:20241024T081450Z
LAST-MODIFIED:20241024T081450Z
UID:2395-1730743200-1730750400@www.vahdonvpk.net
SUMMARY:Veteraaniosaston kerhoilta
DESCRIPTION:Kerhoilta pidetään paloasemalla Maanantaina 4.11.2024 klo 18.00.Tervetuloa.
URL:https://www.vahdonvpk.net/tapahtuma/veteraaniosaston-kerhoilta/
LOCATION:Paloasema
CATEGORIES:Veteraaniosasto
END:VEVENT
END:VCALENDAR