BEGIN:VCALENDAR
VERSION:2.0
PRODID:-//Vahdon VPK - ECPv6.6.4.1//NONSGML v1.0//EN
CALSCALE:GREGORIAN
METHOD:PUBLISH
X-WR-CALNAME:Vahdon VPK
X-ORIGINAL-URL:https://www.vahdonvpk.net
X-WR-CALDESC:Events for Vahdon VPK
REFRESH-INTERVAL;VALUE=DURATION:PT1H
X-Robots-Tag:noindex
X-PUBLISHED-TTL:PT1H
BEGIN:VTIMEZONE
TZID:Europe/Helsinki
BEGIN:DAYLIGHT
TZOFFSETFROM:+0200
TZOFFSETTO:+0300
TZNAME:EEST
DTSTART:20230326T010000
END:DAYLIGHT
BEGIN:STANDARD
TZOFFSETFROM:+0300
TZOFFSETTO:+0200
TZNAME:EET
DTSTART:20231029T010000
END:STANDARD
END:VTIMEZONE
BEGIN:VEVENT
DTSTART;TZID=Europe/Helsinki:20231014T140000
DTEND;TZID=Europe/Helsinki:20231014T233000
DTSTAMP:20260423T063916
CREATED:20230916T171108Z
LAST-MODIFIED:20230916T171108Z
UID:1948-1697292000-1697326200@www.vahdonvpk.net
SUMMARY:Syysleiri
DESCRIPTION:Syysleiri
URL:https://www.vahdonvpk.net/tapahtuma/syysleiri/
CATEGORIES:Nuoret
END:VEVENT
BEGIN:VEVENT
DTSTART;TZID=Europe/Helsinki:20231012T183000
DTEND;TZID=Europe/Helsinki:20231012T200000
DTSTAMP:20260423T063916
CREATED:20230916T170606Z
LAST-MODIFIED:20230916T170606Z
UID:1946-1697135400-1697140800@www.vahdonvpk.net
SUMMARY:Ensiapu koulutus
DESCRIPTION:Yhteisharjoitus Ruskon VPK kanssa Vahdolla.
URL:https://www.vahdonvpk.net/tapahtuma/ensiapu-koulutus/
LOCATION:Paloasema
CATEGORIES:Nuoret
END:VEVENT
BEGIN:VEVENT
DTSTART;TZID=Europe/Helsinki:20231005T183000
DTEND;TZID=Europe/Helsinki:20231005T200000
DTSTAMP:20260423T063916
CREATED:20230916T170302Z
LAST-MODIFIED:20230916T170302Z
UID:1944-1696530600-1696536000@www.vahdonvpk.net
SUMMARY:Maastoetsintä
DESCRIPTION:
URL:https://www.vahdonvpk.net/tapahtuma/maastoetsinta/
LOCATION:Paloasema
CATEGORIES:Nuoret
END:VEVENT
BEGIN:VEVENT
DTSTART;TZID=Europe/Helsinki:20231005T173000
DTEND;TZID=Europe/Helsinki:20231005T183000
DTSTAMP:20260423T063916
CREATED:20230916T173616Z
LAST-MODIFIED:20230916T173616Z
UID:1959-1696527000-1696530600@www.vahdonvpk.net
SUMMARY:Ensiapu
DESCRIPTION:Haavojen ensiapu
URL:https://www.vahdonvpk.net/tapahtuma/ensiapu/
LOCATION:Paloasema
CATEGORIES:Varhaisnuoret
END:VEVENT
BEGIN:VEVENT
DTSTART;TZID=Europe/Helsinki:20231005T173000
DTEND;TZID=Europe/Helsinki:20231005T183000
DTSTAMP:20260423T063916
CREATED:20230916T173256Z
LAST-MODIFIED:20230916T173256Z
UID:1957-1696527000-1696530600@www.vahdonvpk.net
SUMMARY:Kodin turvallisuus
DESCRIPTION:
URL:https://www.vahdonvpk.net/tapahtuma/kodin-turvallisuus/
CATEGORIES:Varhaisnuoret
END:VEVENT
BEGIN:VEVENT
DTSTART;TZID=Europe/Helsinki:20230928T080000
DTEND;TZID=Europe/Helsinki:20230928T170000
DTSTAMP:20260423T063916
CREATED:20230916T173030Z
LAST-MODIFIED:20230916T173048Z
UID:1955-1695888000-1695920400@www.vahdonvpk.net
SUMMARY:"Selvitykset"
DESCRIPTION:
URL:https://www.vahdonvpk.net/tapahtuma/selvitykset-3/
LOCATION:Paloasema
CATEGORIES:Varhaisnuoret
END:VEVENT
BEGIN:VEVENT
DTSTART;TZID=Europe/Helsinki:20230927T180000
DTEND;TZID=Europe/Helsinki:20230927T200000
DTSTAMP:20260423T063916
CREATED:20230916T165832Z
LAST-MODIFIED:20230916T171821Z
UID:1942-1695837600-1695844800@www.vahdonvpk.net
SUMMARY:Toimintaharjoitus
DESCRIPTION:Yhteisharjoitus Ruskon VPK:n nuorten kanssa Ruskolla.
URL:https://www.vahdonvpk.net/tapahtuma/toimintaharjoitus/
LOCATION:Paloasema
CATEGORIES:Nuoret
END:VEVENT
BEGIN:VEVENT
DTSTART;TZID=Europe/Helsinki:20230921T180000
DTEND;TZID=Europe/Helsinki:20230921T200000
DTSTAMP:20260423T063916
CREATED:20230916T165105Z
LAST-MODIFIED:20230916T165300Z
UID:1938-1695319200-1695326400@www.vahdonvpk.net
SUMMARY:Kodin paloturvallisuus
DESCRIPTION:Turvallisuusviestintätapahtuma Vahdon Kirkkotiellä.
URL:https://www.vahdonvpk.net/tapahtuma/1938/
LOCATION:Paloasema
CATEGORIES:Nuoret
END:VEVENT
BEGIN:VEVENT
DTSTART;TZID=Europe/Helsinki:20230921T170000
DTEND;TZID=Europe/Helsinki:20230921T180000
DTSTAMP:20260423T063916
CREATED:20230916T172553Z
LAST-MODIFIED:20230916T172801Z
UID:1952-1695315600-1695319200@www.vahdonvpk.net
SUMMARY:Hätänumero ja turvallisuustoimijat
DESCRIPTION:
URL:https://www.vahdonvpk.net/tapahtuma/hatanumero-ja-turvallisuustoimijat/
LOCATION:Paloasema
CATEGORIES:Varhaisnuoret
END:VEVENT
BEGIN:VEVENT
DTSTART;TZID=Europe/Helsinki:20230525T173000
DTEND;TZID=Europe/Helsinki:20230525T193000
DTSTAMP:20260423T063916
CREATED:20230108T160047Z
LAST-MODIFIED:20230416T135437Z
UID:1621-1685035800-1685043000@www.vahdonvpk.net
SUMMARY:Kauden päätös
DESCRIPTION:Yhteisharjoitus
URL:https://www.vahdonvpk.net/tapahtuma/kauden-paatos-2/
LOCATION:Paloasema
CATEGORIES:Nuoret,Varhaisnuoret
END:VEVENT
BEGIN:VEVENT
DTSTART;TZID=Europe/Helsinki:20230518T173000
DTEND;TZID=Europe/Helsinki:20230518T193000
DTSTAMP:20260423T063916
CREATED:20230108T160046Z
LAST-MODIFIED:20230416T135044Z
UID:1620-1684431000-1684438200@www.vahdonvpk.net
SUMMARY:Ei harjoituksia (helatorstai)
DESCRIPTION:
URL:https://www.vahdonvpk.net/tapahtuma/maastopalo/
LOCATION:Paloasema
CATEGORIES:Nuoret
END:VEVENT
BEGIN:VEVENT
DTSTART;TZID=Europe/Helsinki:20230518T173000
DTEND;TZID=Europe/Helsinki:20230518T173000
DTSTAMP:20260423T063916
CREATED:20230108T161349Z
LAST-MODIFIED:20230416T134957Z
UID:1641-1684431000-1684431000@www.vahdonvpk.net
SUMMARY:Ei harjoituksia (helatorstai)
DESCRIPTION:
URL:https://www.vahdonvpk.net/tapahtuma/retki-liikennepuistoon/
LOCATION:Paloasema
CATEGORIES:Varhaisnuoret
END:VEVENT
BEGIN:VEVENT
DTSTART;TZID=Europe/Helsinki:20230511T173000
DTEND;TZID=Europe/Helsinki:20230511T193000
DTSTAMP:20260423T063916
CREATED:20230108T161349Z
LAST-MODIFIED:20230416T134702Z
UID:1640-1683826200-1683833400@www.vahdonvpk.net
SUMMARY:Liikenneturvallisuus\, retki
DESCRIPTION:Retki Liedon liikennepuistoon
URL:https://www.vahdonvpk.net/tapahtuma/liikenneturvallisuus-ja-pyoraily/
LOCATION:Paloasema
CATEGORIES:Varhaisnuoret
END:VEVENT
BEGIN:VEVENT
DTSTART;TZID=Europe/Helsinki:20230511T173000
DTEND;TZID=Europe/Helsinki:20230511T193000
DTSTAMP:20260423T063916
CREATED:20230108T160046Z
LAST-MODIFIED:20230416T135215Z
UID:1619-1683826200-1683833400@www.vahdonvpk.net
SUMMARY:Liikenneturvallisuus\, retki
DESCRIPTION:Liikennepuisto Lieto
URL:https://www.vahdonvpk.net/tapahtuma/soveltava-harjoitus-2/
LOCATION:Paloasema
CATEGORIES:Nuoret
END:VEVENT
BEGIN:VEVENT
DTSTART;TZID=Europe/Helsinki:20230504T183000
DTEND;TZID=Europe/Helsinki:20230504T183000
DTSTAMP:20260423T063916
CREATED:20230108T160045Z
LAST-MODIFIED:20230416T134410Z
UID:1618-1683225000-1683225000@www.vahdonvpk.net
SUMMARY:Soveltava harjoitus
DESCRIPTION:
URL:https://www.vahdonvpk.net/tapahtuma/soveltava-harjoitus/
LOCATION:Paloasema
CATEGORIES:Nuoret
END:VEVENT
BEGIN:VEVENT
DTSTART;TZID=Europe/Helsinki:20230504T173000
DTEND;TZID=Europe/Helsinki:20230504T173000
DTSTAMP:20260423T063916
CREATED:20230108T161349Z
LAST-MODIFIED:20230416T134303Z
UID:1639-1683221400-1683221400@www.vahdonvpk.net
SUMMARY:Selvitykset
DESCRIPTION:
URL:https://www.vahdonvpk.net/tapahtuma/selvitykset-2/
LOCATION:Paloasema
CATEGORIES:Varhaisnuoret
END:VEVENT
BEGIN:VEVENT
DTSTART;TZID=Europe/Helsinki:20230427T183000
DTEND;TZID=Europe/Helsinki:20230427T183000
DTSTAMP:20260423T063916
CREATED:20230108T160032Z
LAST-MODIFIED:20230426T152739Z
UID:1617-1682620200-1682620200@www.vahdonvpk.net
SUMMARY:Ei harjoituksia
DESCRIPTION:
URL:https://www.vahdonvpk.net/tapahtuma/ensiapu-verenvuodot/
LOCATION:Paloasema
CATEGORIES:Nuoret
END:VEVENT
BEGIN:VEVENT
DTSTART;TZID=Europe/Helsinki:20230427T173000
DTEND;TZID=Europe/Helsinki:20230427T173000
DTSTAMP:20260423T063916
CREATED:20230108T161335Z
LAST-MODIFIED:20230426T152906Z
UID:1638-1682616600-1682616600@www.vahdonvpk.net
SUMMARY:Ei harjoituksia
DESCRIPTION:
URL:https://www.vahdonvpk.net/tapahtuma/sankoruisku/
LOCATION:Paloasema
CATEGORIES:Varhaisnuoret
END:VEVENT
BEGIN:VEVENT
DTSTART;TZID=Europe/Helsinki:20230420T183000
DTEND;TZID=Europe/Helsinki:20230420T183000
DTSTAMP:20260423T063916
CREATED:20230108T160032Z
LAST-MODIFIED:20230416T133835Z
UID:1616-1682015400-1682015400@www.vahdonvpk.net
SUMMARY:Ensiapu\, haavat
DESCRIPTION:
URL:https://www.vahdonvpk.net/tapahtuma/tikasselvitys-ja-korkealla-tyoskentely/
LOCATION:Paloasema
CATEGORIES:Nuoret
END:VEVENT
BEGIN:VEVENT
DTSTART;TZID=Europe/Helsinki:20230420T173000
DTEND;TZID=Europe/Helsinki:20230420T173000
DTSTAMP:20260423T063916
CREATED:20230108T161335Z
LAST-MODIFIED:20230416T133607Z
UID:1637-1682011800-1682011800@www.vahdonvpk.net
SUMMARY:Alkusammutus
DESCRIPTION:
URL:https://www.vahdonvpk.net/tapahtuma/alkusammutus-2/
LOCATION:Paloasema
CATEGORIES:Varhaisnuoret
END:VEVENT
BEGIN:VEVENT
DTSTART;TZID=Europe/Helsinki:20230413T183000
DTEND;TZID=Europe/Helsinki:20230413T183000
DTSTAMP:20260423T063916
CREATED:20230108T160031Z
LAST-MODIFIED:20230108T160031Z
UID:1615-1681410600-1681410600@www.vahdonvpk.net
SUMMARY:Lisävesiselvitykset ja pumpun käyttö
DESCRIPTION:
URL:https://www.vahdonvpk.net/tapahtuma/lisavesiselvitykset-ja-pumpun-kaytto/
LOCATION:Paloasema
CATEGORIES:Nuoret
END:VEVENT
BEGIN:VEVENT
DTSTART;TZID=Europe/Helsinki:20230413T173000
DTEND;TZID=Europe/Helsinki:20230413T173000
DTSTAMP:20260423T063916
CREATED:20230108T161334Z
LAST-MODIFIED:20230108T161334Z
UID:1636-1681407000-1681407000@www.vahdonvpk.net
SUMMARY:Letkujen käsittely ja suihkutus
DESCRIPTION:
URL:https://www.vahdonvpk.net/tapahtuma/letkujen-kasittely-ja-suihkutus/
LOCATION:Paloasema
CATEGORIES:Varhaisnuoret
END:VEVENT
BEGIN:VEVENT
DTSTART;TZID=Europe/Helsinki:20230406T183000
DTEND;TZID=Europe/Helsinki:20230406T183000
DTSTAMP:20260423T063916
CREATED:20230108T160031Z
LAST-MODIFIED:20230108T160031Z
UID:1614-1680805800-1680805800@www.vahdonvpk.net
SUMMARY:Perusselvistys
DESCRIPTION:
URL:https://www.vahdonvpk.net/tapahtuma/perusselvistys/
LOCATION:Paloasema
CATEGORIES:Nuoret
END:VEVENT
BEGIN:VEVENT
DTSTART;TZID=Europe/Helsinki:20230406T173000
DTEND;TZID=Europe/Helsinki:20230406T173000
DTSTAMP:20260423T063916
CREATED:20230108T161334Z
LAST-MODIFIED:20230108T161334Z
UID:1635-1680802200-1680802200@www.vahdonvpk.net
SUMMARY:Kaluston tunnistus
DESCRIPTION:
URL:https://www.vahdonvpk.net/tapahtuma/kaluston-tunnistus/
LOCATION:Paloasema
CATEGORIES:Varhaisnuoret
END:VEVENT
BEGIN:VEVENT
DTSTART;TZID=Europe/Helsinki:20230330T183000
DTEND;TZID=Europe/Helsinki:20230330T183000
DTSTAMP:20260423T063916
CREATED:20230108T160030Z
LAST-MODIFIED:20230108T160030Z
UID:1613-1680201000-1680201000@www.vahdonvpk.net
SUMMARY:Elvytys
DESCRIPTION:
URL:https://www.vahdonvpk.net/tapahtuma/elvytys-3/
LOCATION:Paloasema
CATEGORIES:Nuoret
END:VEVENT
BEGIN:VEVENT
DTSTART;TZID=Europe/Helsinki:20230330T173000
DTEND;TZID=Europe/Helsinki:20230330T173000
DTSTAMP:20260423T063916
CREATED:20230108T161334Z
LAST-MODIFIED:20230108T161334Z
UID:1634-1680197400-1680197400@www.vahdonvpk.net
SUMMARY:Solmut
DESCRIPTION:
URL:https://www.vahdonvpk.net/tapahtuma/solmut/
LOCATION:Paloasema
CATEGORIES:Varhaisnuoret
END:VEVENT
BEGIN:VEVENT
DTSTART;TZID=Europe/Helsinki:20230323T183000
DTEND;TZID=Europe/Helsinki:20230323T183000
DTSTAMP:20260423T063916
CREATED:20230108T160017Z
LAST-MODIFIED:20230108T160017Z
UID:1612-1679596200-1679596200@www.vahdonvpk.net
SUMMARY:Hydrauliset pelastusvälineet ja nostotyynyt
DESCRIPTION:
URL:https://www.vahdonvpk.net/tapahtuma/hydrauliset-pelastusvalineet-ja-nostotyynyt/
LOCATION:Paloasema
CATEGORIES:Nuoret
END:VEVENT
BEGIN:VEVENT
DTSTART;TZID=Europe/Helsinki:20230323T173000
DTEND;TZID=Europe/Helsinki:20230323T173000
DTSTAMP:20260423T063916
CREATED:20230108T161319Z
LAST-MODIFIED:20230108T161319Z
UID:1633-1679592600-1679592600@www.vahdonvpk.net
SUMMARY:Turvallisuuskävely keskustassa
DESCRIPTION:
URL:https://www.vahdonvpk.net/tapahtuma/turvallisuuskavely-keskustassa/
LOCATION:Paloasema
CATEGORIES:Varhaisnuoret
END:VEVENT
BEGIN:VEVENT
DTSTART;TZID=Europe/Helsinki:20230316T183000
DTEND;TZID=Europe/Helsinki:20230316T183000
DTSTAMP:20260423T063916
CREATED:20230108T160017Z
LAST-MODIFIED:20230108T160017Z
UID:1611-1678991400-1678991400@www.vahdonvpk.net
SUMMARY:Käsityökalujen käyttö
DESCRIPTION:
URL:https://www.vahdonvpk.net/tapahtuma/kasityokalujen-kaytto/
LOCATION:Paloasema
CATEGORIES:Nuoret
END:VEVENT
BEGIN:VEVENT
DTSTART;TZID=Europe/Helsinki:20230316T173000
DTEND;TZID=Europe/Helsinki:20230316T183000
DTSTAMP:20260423T063916
CREATED:20230108T161319Z
LAST-MODIFIED:20230113T134916Z
UID:1632-1678987800-1678991400@www.vahdonvpk.net
SUMMARY:Eksyminen
DESCRIPTION:
URL:https://www.vahdonvpk.net/tapahtuma/eksyminen/
LOCATION:Paloasema
CATEGORIES:Varhaisnuoret
END:VEVENT
END:VCALENDAR