BEGIN:VCALENDAR
VERSION:2.0
PRODID:-//Vahdon VPK - ECPv6.6.4.1//NONSGML v1.0//EN
CALSCALE:GREGORIAN
METHOD:PUBLISH
X-WR-CALNAME:Vahdon VPK
X-ORIGINAL-URL:https://www.vahdonvpk.net
X-WR-CALDESC:Events for Vahdon VPK
REFRESH-INTERVAL;VALUE=DURATION:PT1H
X-Robots-Tag:noindex
X-PUBLISHED-TTL:PT1H
BEGIN:VTIMEZONE
TZID:Europe/Helsinki
BEGIN:DAYLIGHT
TZOFFSETFROM:+0200
TZOFFSETTO:+0300
TZNAME:EEST
DTSTART:20240331T010000
END:DAYLIGHT
BEGIN:STANDARD
TZOFFSETFROM:+0300
TZOFFSETTO:+0200
TZNAME:EET
DTSTART:20241027T010000
END:STANDARD
END:VTIMEZONE
BEGIN:VEVENT
DTSTART;TZID=Europe/Helsinki:20240506T180000
DTEND;TZID=Europe/Helsinki:20240506T193000
DTSTAMP:20260423T014518
CREATED:20240506T181901Z
LAST-MODIFIED:20240506T181901Z
UID:2299-1715018400-1715023800@www.vahdonvpk.net
SUMMARY:Leiriharjoitukset 2
DESCRIPTION:Sankoruiskukilpailunharjoitukset \nLeirivarusteet
URL:https://www.vahdonvpk.net/tapahtuma/leiriharjoitukset-2/
LOCATION:Paloasema
CATEGORIES:Nuoret,Varhaisnuoret
END:VEVENT
BEGIN:VEVENT
DTSTART;TZID=Europe/Helsinki:20240506T180000
DTEND;TZID=Europe/Helsinki:20240506T193000
DTSTAMP:20260423T014518
CREATED:20240506T182233Z
LAST-MODIFIED:20240506T182233Z
UID:2301-1715018400-1715023800@www.vahdonvpk.net
SUMMARY:Leiriharjoitus 3
DESCRIPTION:Leiritavaroiden pakkaaminen \nSankoruiskukilpailunharjoitukset
URL:https://www.vahdonvpk.net/tapahtuma/leiriharjoitus-3/
LOCATION:Paloasema
CATEGORIES:Nuoret,Varhaisnuoret
END:VEVENT
END:VCALENDAR