BEGIN:VCALENDAR
VERSION:2.0
PRODID:-//Vahdon VPK - ECPv6.6.4.1//NONSGML v1.0//EN
CALSCALE:GREGORIAN
METHOD:PUBLISH
X-ORIGINAL-URL:https://www.vahdonvpk.net
X-WR-CALDESC:Events for Vahdon VPK
REFRESH-INTERVAL;VALUE=DURATION:PT1H
X-Robots-Tag:noindex
X-PUBLISHED-TTL:PT1H
BEGIN:VTIMEZONE
TZID:Europe/Helsinki
BEGIN:DAYLIGHT
TZOFFSETFROM:+0200
TZOFFSETTO:+0300
TZNAME:EEST
DTSTART:20240331T010000
END:DAYLIGHT
BEGIN:STANDARD
TZOFFSETFROM:+0300
TZOFFSETTO:+0200
TZNAME:EET
DTSTART:20241027T010000
END:STANDARD
END:VTIMEZONE
BEGIN:VEVENT
DTSTART;TZID=Europe/Helsinki:20240201T173000
DTEND;TZID=Europe/Helsinki:20240201T183000
DTSTAMP:20260423T085450
CREATED:20240111T141649Z
LAST-MODIFIED:20240111T141649Z
UID:2108-1706808600-1706812200@www.vahdonvpk.net
SUMMARY:Solmut
DESCRIPTION:
URL:https://www.vahdonvpk.net/tapahtuma/solmut-2/
CATEGORIES:Varhaisnuoret
END:VEVENT
BEGIN:VEVENT
DTSTART;TZID=Europe/Helsinki:20240208T170000
DTEND;TZID=Europe/Helsinki:20240208T180000
DTSTAMP:20260423T085450
CREATED:20240111T141856Z
LAST-MODIFIED:20240111T144134Z
UID:2110-1707411600-1707415200@www.vahdonvpk.net
SUMMARY:112 päivä
DESCRIPTION:
URL:https://www.vahdonvpk.net/tapahtuma/112-paiva/
CATEGORIES:Varhaisnuoret
END:VEVENT
BEGIN:VEVENT
DTSTART;TZID=Europe/Helsinki:20240215T173000
DTEND;TZID=Europe/Helsinki:20240215T183000
DTSTAMP:20260423T085450
CREATED:20240111T141952Z
LAST-MODIFIED:20240111T141952Z
UID:2112-1708018200-1708021800@www.vahdonvpk.net
SUMMARY:Peli kerta
DESCRIPTION:
URL:https://www.vahdonvpk.net/tapahtuma/peli-kerta/
CATEGORIES:Varhaisnuoret
END:VEVENT
BEGIN:VEVENT
DTSTART;TZID=Europe/Helsinki:20240229T180000
DTEND;TZID=Europe/Helsinki:20240229T190000
DTSTAMP:20260423T085450
CREATED:20240111T111125Z
LAST-MODIFIED:20240111T111331Z
UID:2077-1709229600-1709233200@www.vahdonvpk.net
SUMMARY:Leiri-info
DESCRIPTION:
URL:https://www.vahdonvpk.net/tapahtuma/leiri-info-3/
CATEGORIES:Nuoret,Nuoriso-osasto,Varhaisnuoret
END:VEVENT
END:VCALENDAR