BEGIN:VCALENDAR
VERSION:2.0
PRODID:-//Vahdon VPK - ECPv6.6.4.1//NONSGML v1.0//EN
CALSCALE:GREGORIAN
METHOD:PUBLISH
X-WR-CALNAME:Vahdon VPK
X-ORIGINAL-URL:https://www.vahdonvpk.net
X-WR-CALDESC:Events for Vahdon VPK
REFRESH-INTERVAL;VALUE=DURATION:PT1H
X-Robots-Tag:noindex
X-PUBLISHED-TTL:PT1H
BEGIN:VTIMEZONE
TZID:Europe/Helsinki
BEGIN:DAYLIGHT
TZOFFSETFROM:+0200
TZOFFSETTO:+0300
TZNAME:EEST
DTSTART:20230326T010000
END:DAYLIGHT
BEGIN:STANDARD
TZOFFSETFROM:+0300
TZOFFSETTO:+0200
TZNAME:EET
DTSTART:20231029T010000
END:STANDARD
END:VTIMEZONE
BEGIN:VEVENT
DTSTART;TZID=Europe/Helsinki:20231005T173000
DTEND;TZID=Europe/Helsinki:20231005T183000
DTSTAMP:20260423T143250
CREATED:20230916T173256Z
LAST-MODIFIED:20230916T173256Z
UID:1957-1696527000-1696530600@www.vahdonvpk.net
SUMMARY:Kodin turvallisuus
DESCRIPTION:
URL:https://www.vahdonvpk.net/tapahtuma/kodin-turvallisuus/
CATEGORIES:Varhaisnuoret
END:VEVENT
BEGIN:VEVENT
DTSTART;TZID=Europe/Helsinki:20231005T173000
DTEND;TZID=Europe/Helsinki:20231005T183000
DTSTAMP:20260423T143250
CREATED:20230916T173616Z
LAST-MODIFIED:20230916T173616Z
UID:1959-1696527000-1696530600@www.vahdonvpk.net
SUMMARY:Ensiapu
DESCRIPTION:Haavojen ensiapu
URL:https://www.vahdonvpk.net/tapahtuma/ensiapu/
LOCATION:Paloasema
CATEGORIES:Varhaisnuoret
END:VEVENT
BEGIN:VEVENT
DTSTART;TZID=Europe/Helsinki:20231026T173000
DTEND;TZID=Europe/Helsinki:20231026T183000
DTSTAMP:20260423T143250
CREATED:20231024T170317Z
LAST-MODIFIED:20231024T170317Z
UID:1964-1698341400-1698345000@www.vahdonvpk.net
SUMMARY:Heijastimet
DESCRIPTION:
URL:https://www.vahdonvpk.net/tapahtuma/heijastimet-2/
LOCATION:Paloasema
CATEGORIES:Varhaisnuoret
END:VEVENT
END:VCALENDAR