BEGIN:VCALENDAR
VERSION:2.0
PRODID:-//Vahdon VPK - ECPv6.6.4.1//NONSGML v1.0//EN
CALSCALE:GREGORIAN
METHOD:PUBLISH
X-ORIGINAL-URL:https://www.vahdonvpk.net
X-WR-CALDESC:Events for Vahdon VPK
REFRESH-INTERVAL;VALUE=DURATION:PT1H
X-Robots-Tag:noindex
X-PUBLISHED-TTL:PT1H
BEGIN:VTIMEZONE
TZID:Europe/Helsinki
BEGIN:DAYLIGHT
TZOFFSETFROM:+0200
TZOFFSETTO:+0300
TZNAME:EEST
DTSTART:20230326T010000
END:DAYLIGHT
BEGIN:STANDARD
TZOFFSETFROM:+0300
TZOFFSETTO:+0200
TZNAME:EET
DTSTART:20231029T010000
END:STANDARD
END:VTIMEZONE
BEGIN:VEVENT
DTSTART;TZID=Europe/Helsinki:20230202T173000
DTEND;TZID=Europe/Helsinki:20230202T190000
DTSTAMP:20260424T012625
CREATED:20230108T161316Z
LAST-MODIFIED:20230113T134458Z
UID:1627-1675359000-1675364400@www.vahdonvpk.net
SUMMARY:Vierailukäynti
DESCRIPTION:
URL:https://www.vahdonvpk.net/tapahtuma/vierailukaynti/
LOCATION:Paloasema
CATEGORIES:Varhaisnuoret
END:VEVENT
BEGIN:VEVENT
DTSTART;TZID=Europe/Helsinki:20230209T173000
DTEND;TZID=Europe/Helsinki:20230209T183000
DTSTAMP:20260424T012625
CREATED:20230108T161316Z
LAST-MODIFIED:20230113T134345Z
UID:1628-1675963800-1675967400@www.vahdonvpk.net
SUMMARY:Hätänumero
DESCRIPTION:
URL:https://www.vahdonvpk.net/tapahtuma/hatanumero/
LOCATION:Paloasema
CATEGORIES:Varhaisnuoret
END:VEVENT
BEGIN:VEVENT
DTSTART;TZID=Europe/Helsinki:20230216T173000
DTEND;TZID=Europe/Helsinki:20230216T183000
DTSTAMP:20260424T012625
CREATED:20230108T161318Z
LAST-MODIFIED:20230113T134248Z
UID:1629-1676568600-1676572200@www.vahdonvpk.net
SUMMARY:Ensihoito ja poliisi
DESCRIPTION:
URL:https://www.vahdonvpk.net/tapahtuma/ensihoito-ja-poliisi/
LOCATION:Paloasema
CATEGORIES:Varhaisnuoret
END:VEVENT
END:VCALENDAR