BEGIN:VCALENDAR
VERSION:2.0
PRODID:-//Vahdon VPK - ECPv6.6.4.1//NONSGML v1.0//EN
CALSCALE:GREGORIAN
METHOD:PUBLISH
X-ORIGINAL-URL:https://www.vahdonvpk.net
X-WR-CALDESC:Events for Vahdon VPK
REFRESH-INTERVAL;VALUE=DURATION:PT1H
X-Robots-Tag:noindex
X-PUBLISHED-TTL:PT1H
BEGIN:VTIMEZONE
TZID:Europe/Helsinki
BEGIN:DAYLIGHT
TZOFFSETFROM:+0200
TZOFFSETTO:+0300
TZNAME:EEST
DTSTART:20220327T010000
END:DAYLIGHT
BEGIN:STANDARD
TZOFFSETFROM:+0300
TZOFFSETTO:+0200
TZNAME:EET
DTSTART:20221030T010000
END:STANDARD
END:VTIMEZONE
BEGIN:VEVENT
DTSTART;TZID=Europe/Helsinki:20221201T173000
DTEND;TZID=Europe/Helsinki:20221201T183000
DTSTAMP:20260424T035917
CREATED:20221201T070843Z
LAST-MODIFIED:20221201T071720Z
UID:1577-1669915800-1669919400@www.vahdonvpk.net
SUMMARY:Heijastimet
DESCRIPTION:
URL:https://www.vahdonvpk.net/tapahtuma/heijastimet/
LOCATION:Paloasema
CATEGORIES:Varhaisnuoret
END:VEVENT
BEGIN:VEVENT
DTSTART;TZID=Europe/Helsinki:20221208T173000
DTEND;TZID=Europe/Helsinki:20221208T183000
DTSTAMP:20260424T035917
CREATED:20221201T070844Z
LAST-MODIFIED:20221201T073152Z
UID:1578-1670520600-1670524200@www.vahdonvpk.net
SUMMARY:Kertausrastit
DESCRIPTION:Kertausrastit syksyn asioista
URL:https://www.vahdonvpk.net/tapahtuma/kertausrastit/
LOCATION:Paloasema
CATEGORIES:Varhaisnuoret
END:VEVENT
BEGIN:VEVENT
DTSTART;TZID=Europe/Helsinki:20221215T173000
DTEND;TZID=Europe/Helsinki:20221215T183000
DTSTAMP:20260424T035917
CREATED:20221201T070844Z
LAST-MODIFIED:20221201T071836Z
UID:1579-1671125400-1671129000@www.vahdonvpk.net
SUMMARY:Kauden päätös
DESCRIPTION:
URL:https://www.vahdonvpk.net/tapahtuma/kauden-paatos/
LOCATION:Paloasema
CATEGORIES:Varhaisnuoret
END:VEVENT
END:VCALENDAR