BEGIN:VCALENDAR
VERSION:2.0
PRODID:-//Vahdon VPK - ECPv6.6.4.1//NONSGML v1.0//EN
CALSCALE:GREGORIAN
METHOD:PUBLISH
X-ORIGINAL-URL:https://www.vahdonvpk.net
X-WR-CALDESC:Events for Vahdon VPK
REFRESH-INTERVAL;VALUE=DURATION:PT1H
X-Robots-Tag:noindex
X-PUBLISHED-TTL:PT1H
BEGIN:VTIMEZONE
TZID:Europe/Helsinki
BEGIN:DAYLIGHT
TZOFFSETFROM:+0200
TZOFFSETTO:+0300
TZNAME:EEST
DTSTART:20220327T010000
END:DAYLIGHT
BEGIN:STANDARD
TZOFFSETFROM:+0300
TZOFFSETTO:+0200
TZNAME:EET
DTSTART:20221030T010000
END:STANDARD
END:VTIMEZONE
BEGIN:VEVENT
DTSTART;TZID=Europe/Helsinki:20221124T173000
DTEND;TZID=Europe/Helsinki:20221124T183000
DTSTAMP:20260424T173646
CREATED:20221201T070843Z
LAST-MODIFIED:20221201T071449Z
UID:1576-1669311000-1669314600@www.vahdonvpk.net
SUMMARY:Palaminen ja paloturvallisuus
DESCRIPTION:
URL:https://www.vahdonvpk.net/tapahtuma/palaminen-ja-paloturvallisuus/
LOCATION:Paloasema
CATEGORIES:Varhaisnuoret
END:VEVENT
END:VCALENDAR