BEGIN:VCALENDAR
VERSION:2.0
PRODID:-//Vahdon VPK - ECPv6.6.4.1//NONSGML v1.0//EN
CALSCALE:GREGORIAN
METHOD:PUBLISH
X-ORIGINAL-URL:https://www.vahdonvpk.net
X-WR-CALDESC:Events for Vahdon VPK
REFRESH-INTERVAL;VALUE=DURATION:PT1H
X-Robots-Tag:noindex
X-PUBLISHED-TTL:PT1H
BEGIN:VTIMEZONE
TZID:Europe/Helsinki
BEGIN:DAYLIGHT
TZOFFSETFROM:+0200
TZOFFSETTO:+0300
TZNAME:EEST
DTSTART:20240331T010000
END:DAYLIGHT
BEGIN:STANDARD
TZOFFSETFROM:+0300
TZOFFSETTO:+0200
TZNAME:EET
DTSTART:20241027T010000
END:STANDARD
END:VTIMEZONE
BEGIN:VEVENT
DTSTART;TZID=Europe/Helsinki:20241202T170000
DTEND;TZID=Europe/Helsinki:20241202T210000
DTSTAMP:20260423T183721
CREATED:20240913T122644Z
LAST-MODIFIED:20240913T122644Z
UID:2381-1733158800-1733173200@www.vahdonvpk.net
SUMMARY:Alueen kauden päätös
DESCRIPTION:Elokuvailta Paimiossa
URL:https://www.vahdonvpk.net/tapahtuma/alueen-kauden-paatos/
CATEGORIES:Nuoret
END:VEVENT
BEGIN:VEVENT
DTSTART;TZID=Europe/Helsinki:20241212T180000
DTEND;TZID=Europe/Helsinki:20241212T190000
DTSTAMP:20260423T183721
CREATED:20240913T121449Z
LAST-MODIFIED:20250513T142605Z
UID:2359-1734026400-1734030000@www.vahdonvpk.net
SUMMARY:Kauden päätös
DESCRIPTION:
URL:https://www.vahdonvpk.net/tapahtuma/kauden-paatos-3/
CATEGORIES:Varhaisnuoret
END:VEVENT
BEGIN:VEVENT
DTSTART;TZID=Europe/Helsinki:20241212T180000
DTEND;TZID=Europe/Helsinki:20241212T190000
DTSTAMP:20260423T183721
CREATED:20240913T122719Z
LAST-MODIFIED:20250513T142533Z
UID:2383-1734026400-1734030000@www.vahdonvpk.net
SUMMARY:Kauden päätös
DESCRIPTION:
URL:https://www.vahdonvpk.net/tapahtuma/kauden-paatos-4/
CATEGORIES:Nuoret
END:VEVENT
END:VCALENDAR