BEGIN:VCALENDAR
VERSION:2.0
PRODID:-//Vahdon VPK - ECPv6.6.4.1//NONSGML v1.0//EN
CALSCALE:GREGORIAN
METHOD:PUBLISH
X-WR-CALNAME:Vahdon VPK
X-ORIGINAL-URL:https://www.vahdonvpk.net
X-WR-CALDESC:Events for Vahdon VPK
REFRESH-INTERVAL;VALUE=DURATION:PT1H
X-Robots-Tag:noindex
X-PUBLISHED-TTL:PT1H
BEGIN:VTIMEZONE
TZID:Europe/Helsinki
BEGIN:DAYLIGHT
TZOFFSETFROM:+0200
TZOFFSETTO:+0300
TZNAME:EEST
DTSTART:20240331T010000
END:DAYLIGHT
BEGIN:STANDARD
TZOFFSETFROM:+0300
TZOFFSETTO:+0200
TZNAME:EET
DTSTART:20241027T010000
END:STANDARD
END:VTIMEZONE
BEGIN:VEVENT
DTSTART;TZID=Europe/Helsinki:20241107T080000
DTEND;TZID=Europe/Helsinki:20241107T170000
DTSTAMP:20260423T195157
CREATED:20240913T122017Z
LAST-MODIFIED:20240913T122017Z
UID:2373-1730966400-1730998800@www.vahdonvpk.net
SUMMARY:Kalustonnostot
DESCRIPTION:
URL:https://www.vahdonvpk.net/tapahtuma/kalustonnostot/
CATEGORIES:Nuoret
END:VEVENT
BEGIN:VEVENT
DTSTART;TZID=Europe/Helsinki:20241107T173000
DTEND;TZID=Europe/Helsinki:20241107T183000
DTSTAMP:20260423T195157
CREATED:20240913T120947Z
LAST-MODIFIED:20240913T120947Z
UID:2351-1731000600-1731004200@www.vahdonvpk.net
SUMMARY:Palaminen ja sammuttaminen
DESCRIPTION:
URL:https://www.vahdonvpk.net/tapahtuma/palaminen-ja-sammuttaminen/
CATEGORIES:Varhaisnuoret
END:VEVENT
BEGIN:VEVENT
DTSTART;TZID=Europe/Helsinki:20241114T173000
DTEND;TZID=Europe/Helsinki:20241114T183000
DTSTAMP:20260423T195157
CREATED:20240913T121148Z
LAST-MODIFIED:20241112T174630Z
UID:2353-1731605400-1731609000@www.vahdonvpk.net
SUMMARY:Ensiapu
DESCRIPTION:
URL:https://www.vahdonvpk.net/tapahtuma/pelit/
CATEGORIES:Varhaisnuoret
END:VEVENT
BEGIN:VEVENT
DTSTART;TZID=Europe/Helsinki:20241114T183000
DTEND;TZID=Europe/Helsinki:20241114T200000
DTSTAMP:20260423T195157
CREATED:20240913T122115Z
LAST-MODIFIED:20240913T122115Z
UID:2375-1731609000-1731614400@www.vahdonvpk.net
SUMMARY:Sairaskohtaukset
DESCRIPTION:
URL:https://www.vahdonvpk.net/tapahtuma/sairaskohtaukset-2/
CATEGORIES:Nuoret
END:VEVENT
BEGIN:VEVENT
DTSTART;TZID=Europe/Helsinki:20241121T173000
DTEND;TZID=Europe/Helsinki:20241121T183000
DTSTAMP:20260423T195157
CREATED:20240913T121242Z
LAST-MODIFIED:20241112T174704Z
UID:2355-1732210200-1732213800@www.vahdonvpk.net
SUMMARY:Kaveriskaba
DESCRIPTION:
URL:https://www.vahdonvpk.net/tapahtuma/ensiapu-tajuttomuus-2/
CATEGORIES:Varhaisnuoret
END:VEVENT
BEGIN:VEVENT
DTSTART;TZID=Europe/Helsinki:20241121T183000
DTEND;TZID=Europe/Helsinki:20241121T200000
DTSTAMP:20260423T195157
CREATED:20240913T122218Z
LAST-MODIFIED:20241112T174718Z
UID:2377-1732213800-1732219200@www.vahdonvpk.net
SUMMARY:Kaveriskaba
DESCRIPTION:
URL:https://www.vahdonvpk.net/tapahtuma/kartat/
CATEGORIES:Nuoret
END:VEVENT
BEGIN:VEVENT
DTSTART;TZID=Europe/Helsinki:20241128T173000
DTEND;TZID=Europe/Helsinki:20241128T183000
DTSTAMP:20260423T195157
CREATED:20240913T121319Z
LAST-MODIFIED:20240913T121348Z
UID:2357-1732815000-1732818600@www.vahdonvpk.net
SUMMARY:Alkusammutus
DESCRIPTION:
URL:https://www.vahdonvpk.net/tapahtuma/alkusammutus-4/
CATEGORIES:Varhaisnuoret
END:VEVENT
BEGIN:VEVENT
DTSTART;TZID=Europe/Helsinki:20241128T183000
DTEND;TZID=Europe/Helsinki:20241128T200000
DTSTAMP:20260423T195157
CREATED:20240913T122554Z
LAST-MODIFIED:20240913T122554Z
UID:2379-1732818600-1732824000@www.vahdonvpk.net
SUMMARY:Alkusammutus
DESCRIPTION:
URL:https://www.vahdonvpk.net/tapahtuma/alkusammutus-5/
CATEGORIES:Nuoret
END:VEVENT
END:VCALENDAR