BEGIN:VCALENDAR
VERSION:2.0
PRODID:-//Vahdon VPK - ECPv6.6.4.1//NONSGML v1.0//EN
CALSCALE:GREGORIAN
METHOD:PUBLISH
X-WR-CALNAME:Vahdon VPK
X-ORIGINAL-URL:https://www.vahdonvpk.net
X-WR-CALDESC:Events for Vahdon VPK
REFRESH-INTERVAL;VALUE=DURATION:PT1H
X-Robots-Tag:noindex
X-PUBLISHED-TTL:PT1H
BEGIN:VTIMEZONE
TZID:Europe/Helsinki
BEGIN:DAYLIGHT
TZOFFSETFROM:+0200
TZOFFSETTO:+0300
TZNAME:EEST
DTSTART:20240331T010000
END:DAYLIGHT
BEGIN:STANDARD
TZOFFSETFROM:+0300
TZOFFSETTO:+0200
TZNAME:EET
DTSTART:20241027T010000
END:STANDARD
END:VTIMEZONE
BEGIN:VEVENT
DTSTART;TZID=Europe/Helsinki:20241003T173000
DTEND;TZID=Europe/Helsinki:20241003T183000
DTSTAMP:20260423T211014
CREATED:20240913T120229Z
LAST-MODIFIED:20240913T120229Z
UID:2338-1727976600-1727980200@www.vahdonvpk.net
SUMMARY:Kodin turvallisuus
DESCRIPTION:
URL:https://www.vahdonvpk.net/tapahtuma/kodin-turvallisuus-2/
CATEGORIES:Varhaisnuoret
END:VEVENT
BEGIN:VEVENT
DTSTART;TZID=Europe/Helsinki:20241009T174500
DTEND;TZID=Europe/Helsinki:20241009T193000
DTSTAMP:20260423T211014
CREATED:20240913T121826Z
LAST-MODIFIED:20240913T121826Z
UID:2367-1728495900-1728502200@www.vahdonvpk.net
SUMMARY:Yhteisharjoitus Ruskolla
DESCRIPTION:
URL:https://www.vahdonvpk.net/tapahtuma/yhteisharjoitus-ruskolla-3/
CATEGORIES:Nuoret
END:VEVENT
BEGIN:VEVENT
DTSTART;TZID=Europe/Helsinki:20241010T173000
DTEND;TZID=Europe/Helsinki:20241010T183000
DTSTAMP:20260423T211014
CREATED:20240913T120501Z
LAST-MODIFIED:20240913T120501Z
UID:2341-1728581400-1728585000@www.vahdonvpk.net
SUMMARY:Ensiapu haavat
DESCRIPTION:
URL:https://www.vahdonvpk.net/tapahtuma/ensiapu-haavat/
CATEGORIES:Varhaisnuoret
END:VEVENT
BEGIN:VEVENT
DTSTART;TZID=Europe/Helsinki:20241012T140000
DTEND;TZID=Europe/Helsinki:20241012T180000
DTSTAMP:20260423T211014
CREATED:20240913T120543Z
LAST-MODIFIED:20240913T120543Z
UID:2343-1728741600-1728756000@www.vahdonvpk.net
SUMMARY:Syysleiri
DESCRIPTION:
URL:https://www.vahdonvpk.net/tapahtuma/syysleiri-3/
CATEGORIES:Varhaisnuoret
END:VEVENT
BEGIN:VEVENT
DTSTART;TZID=Europe/Helsinki:20241012T140000
DTEND;TZID=Europe/Helsinki:20241013T090000
DTSTAMP:20260423T211014
CREATED:20240913T120618Z
LAST-MODIFIED:20240913T120618Z
UID:2345-1728741600-1728810000@www.vahdonvpk.net
SUMMARY:Syysleiri
DESCRIPTION:
URL:https://www.vahdonvpk.net/tapahtuma/syysleiri-4/
CATEGORIES:Nuoret
END:VEVENT
BEGIN:VEVENT
DTSTART;TZID=Europe/Helsinki:20241024T170000
DTEND;TZID=Europe/Helsinki:20241024T175000
DTSTAMP:20260423T211014
CREATED:20240913T120735Z
LAST-MODIFIED:20241021T142803Z
UID:2347-1729789200-1729792200@www.vahdonvpk.net
SUMMARY:Paloautojen kalusto
DESCRIPTION: 
URL:https://www.vahdonvpk.net/tapahtuma/paloautojen-kalusto/
CATEGORIES:Varhaisnuoret
END:VEVENT
BEGIN:VEVENT
DTSTART;TZID=Europe/Helsinki:20241024T183000
DTEND;TZID=Europe/Helsinki:20241024T200000
DTSTAMP:20260423T211014
CREATED:20240913T121909Z
LAST-MODIFIED:20240913T121909Z
UID:2369-1729794600-1729800000@www.vahdonvpk.net
SUMMARY:Toiminta liikenneonnettomuudessa
DESCRIPTION:
URL:https://www.vahdonvpk.net/tapahtuma/toiminta-liikenneonnettomuudessa-2/
CATEGORIES:Nuoret
END:VEVENT
BEGIN:VEVENT
DTSTART;TZID=Europe/Helsinki:20241031T173000
DTEND;TZID=Europe/Helsinki:20241031T183000
DTSTAMP:20260423T211014
CREATED:20240913T120831Z
LAST-MODIFIED:20240913T121039Z
UID:2349-1730395800-1730399400@www.vahdonvpk.net
SUMMARY:Heijastimet
DESCRIPTION:
URL:https://www.vahdonvpk.net/tapahtuma/heijastimet-3/
CATEGORIES:Varhaisnuoret
END:VEVENT
BEGIN:VEVENT
DTSTART;TZID=Europe/Helsinki:20241031T183000
DTEND;TZID=Europe/Helsinki:20241031T200000
DTSTAMP:20260423T211014
CREATED:20240913T121942Z
LAST-MODIFIED:20240913T122824Z
UID:2371-1730399400-1730404800@www.vahdonvpk.net
SUMMARY:Kalustontunnistus
DESCRIPTION:
URL:https://www.vahdonvpk.net/tapahtuma/kalustontunnistus/
CATEGORIES:Nuoret
END:VEVENT
END:VCALENDAR