BEGIN:VCALENDAR
VERSION:2.0
PRODID:-//Vahdon VPK - ECPv6.6.4.1//NONSGML v1.0//EN
CALSCALE:GREGORIAN
METHOD:PUBLISH
X-ORIGINAL-URL:https://www.vahdonvpk.net
X-WR-CALDESC:Events for Vahdon VPK
REFRESH-INTERVAL;VALUE=DURATION:PT1H
X-Robots-Tag:noindex
X-PUBLISHED-TTL:PT1H
BEGIN:VTIMEZONE
TZID:Europe/Helsinki
BEGIN:DAYLIGHT
TZOFFSETFROM:+0200
TZOFFSETTO:+0300
TZNAME:EEST
DTSTART:20240331T010000
END:DAYLIGHT
BEGIN:STANDARD
TZOFFSETFROM:+0300
TZOFFSETTO:+0200
TZNAME:EET
DTSTART:20241027T010000
END:STANDARD
END:VTIMEZONE
BEGIN:VEVENT
DTSTART;TZID=Europe/Helsinki:20240201T173000
DTEND;TZID=Europe/Helsinki:20240201T183000
DTSTAMP:20260424T072654
CREATED:20240111T141649Z
LAST-MODIFIED:20240111T141649Z
UID:2108-1706808600-1706812200@www.vahdonvpk.net
SUMMARY:Solmut
DESCRIPTION:
URL:https://www.vahdonvpk.net/tapahtuma/solmut-2/
CATEGORIES:Varhaisnuoret
END:VEVENT
BEGIN:VEVENT
DTSTART;TZID=Europe/Helsinki:20240201T183000
DTEND;TZID=Europe/Helsinki:20240201T200000
DTSTAMP:20260424T072654
CREATED:20240111T110932Z
LAST-MODIFIED:20240131T143102Z
UID:2073-1706812200-1706817600@www.vahdonvpk.net
SUMMARY:Ensiapu kuljetusasennot
DESCRIPTION:Yhteisharjoitus Ruskon VPK:n nuorten kanssa
URL:https://www.vahdonvpk.net/tapahtuma/ensiapu-kuljetusasennot/
CATEGORIES:Nuoret
END:VEVENT
BEGIN:VEVENT
DTSTART;TZID=Europe/Helsinki:20240206T173000
DTEND;TZID=Europe/Helsinki:20240206T200000
DTSTAMP:20260424T072654
CREATED:20240111T163818Z
LAST-MODIFIED:20240111T163818Z
UID:2136-1707240600-1707249600@www.vahdonvpk.net
SUMMARY:Kerhoilta
DESCRIPTION:Turvallisuustapahtuman suunnittelu. \nYhteinen nuoriso-osaston kouluttajien kanssa.
URL:https://www.vahdonvpk.net/tapahtuma/kerhoilta-2/
CATEGORIES:Nais- ja tukiosasto,Nuoriso-osasto
END:VEVENT
BEGIN:VEVENT
DTSTART;TZID=Europe/Helsinki:20240206T180000
DTEND;TZID=Europe/Helsinki:20240206T200000
DTSTAMP:20260424T072654
CREATED:20240115T181045Z
LAST-MODIFIED:20240115T181045Z
UID:2158-1707242400-1707249600@www.vahdonvpk.net
SUMMARY:Kisatreenit: Solmut\, narut\, kalustonnostot
DESCRIPTION:
URL:https://www.vahdonvpk.net/tapahtuma/kisatreenit-solmut-narut-kalustonnostot/
CATEGORIES:Nuoret
END:VEVENT
BEGIN:VEVENT
DTSTART;TZID=Europe/Helsinki:20240208T170000
DTEND;TZID=Europe/Helsinki:20240208T180000
DTSTAMP:20260424T072654
CREATED:20240111T141856Z
LAST-MODIFIED:20240111T144134Z
UID:2110-1707411600-1707415200@www.vahdonvpk.net
SUMMARY:112 päivä
DESCRIPTION:
URL:https://www.vahdonvpk.net/tapahtuma/112-paiva/
CATEGORIES:Varhaisnuoret
END:VEVENT
BEGIN:VEVENT
DTSTART;TZID=Europe/Helsinki:20240208T183000
DTEND;TZID=Europe/Helsinki:20240208T200000
DTSTAMP:20260424T072654
CREATED:20240111T110802Z
LAST-MODIFIED:20240131T143149Z
UID:2071-1707417000-1707422400@www.vahdonvpk.net
SUMMARY:Käsityökalut\, murto- ja raivausvälineet
DESCRIPTION:
URL:https://www.vahdonvpk.net/tapahtuma/kasityokalut-murto-ja-raivausvalineet/
LOCATION:Paloasema
CATEGORIES:Nuoret
END:VEVENT
BEGIN:VEVENT
DTSTART;TZID=Europe/Helsinki:20240215T173000
DTEND;TZID=Europe/Helsinki:20240215T183000
DTSTAMP:20260424T072654
CREATED:20240111T141952Z
LAST-MODIFIED:20240111T141952Z
UID:2112-1708018200-1708021800@www.vahdonvpk.net
SUMMARY:Peli kerta
DESCRIPTION:
URL:https://www.vahdonvpk.net/tapahtuma/peli-kerta/
CATEGORIES:Varhaisnuoret
END:VEVENT
BEGIN:VEVENT
DTSTART;TZID=Europe/Helsinki:20240215T183000
DTEND;TZID=Europe/Helsinki:20240215T193000
DTSTAMP:20260424T072654
CREATED:20240111T111035Z
LAST-MODIFIED:20240214T193707Z
UID:2075-1708021800-1708025400@www.vahdonvpk.net
SUMMARY:Liikkuva palokunta
DESCRIPTION:
URL:https://www.vahdonvpk.net/tapahtuma/liikkuva-palokunta/
CATEGORIES:Nuoret
END:VEVENT
BEGIN:VEVENT
DTSTART;TZID=Europe/Helsinki:20240220T180000
DTEND;TZID=Europe/Helsinki:20240220T200000
DTSTAMP:20260424T072654
CREATED:20240115T181044Z
LAST-MODIFIED:20240220T171527Z
UID:2160-1708452000-1708459200@www.vahdonvpk.net
SUMMARY:SIIRRETÄÄN Kisatreenit: Kisa-EA\, potilaan siirtäminen; Viestiliikenne
DESCRIPTION:
URL:https://www.vahdonvpk.net/tapahtuma/kisatreenit-kisa-ea-potilaan-siirtaminen-viestiliikenne/
CATEGORIES:Nuoret
END:VEVENT
BEGIN:VEVENT
DTSTART;TZID=Europe/Helsinki:20240228T174500
DTEND;TZID=Europe/Helsinki:20240228T200000
DTSTAMP:20260424T072654
CREATED:20240220T171942Z
LAST-MODIFIED:20240223T140718Z
UID:2207-1709142300-1709150400@www.vahdonvpk.net
SUMMARY:Keskiviikko: Yhteisharjoitus Ruskolla
DESCRIPTION:
URL:https://www.vahdonvpk.net/tapahtuma/yhteisharjoitus-ruskolla/
CATEGORIES:Nuoret
END:VEVENT
BEGIN:VEVENT
DTSTART;TZID=Europe/Helsinki:20240229T180000
DTEND;TZID=Europe/Helsinki:20240229T190000
DTSTAMP:20260424T072654
CREATED:20240111T111125Z
LAST-MODIFIED:20240111T111331Z
UID:2077-1709229600-1709233200@www.vahdonvpk.net
SUMMARY:Leiri-info
DESCRIPTION:
URL:https://www.vahdonvpk.net/tapahtuma/leiri-info-3/
CATEGORIES:Nuoret,Nuoriso-osasto,Varhaisnuoret
END:VEVENT
END:VCALENDAR