BEGIN:VCALENDAR
VERSION:2.0
PRODID:-//Vahdon VPK - ECPv6.6.4.1//NONSGML v1.0//EN
CALSCALE:GREGORIAN
METHOD:PUBLISH
X-ORIGINAL-URL:https://www.vahdonvpk.net
X-WR-CALDESC:Events for Vahdon VPK
REFRESH-INTERVAL;VALUE=DURATION:PT1H
X-Robots-Tag:noindex
X-PUBLISHED-TTL:PT1H
BEGIN:VTIMEZONE
TZID:Europe/Helsinki
BEGIN:DAYLIGHT
TZOFFSETFROM:+0200
TZOFFSETTO:+0300
TZNAME:EEST
DTSTART:20230326T010000
END:DAYLIGHT
BEGIN:STANDARD
TZOFFSETFROM:+0300
TZOFFSETTO:+0200
TZNAME:EET
DTSTART:20231029T010000
END:STANDARD
END:VTIMEZONE
BEGIN:VEVENT
DTSTART;TZID=Europe/Helsinki:20230920T183000
DTEND;TZID=Europe/Helsinki:20230920T183000
DTSTAMP:20260422T170317
CREATED:20221130T200408Z
LAST-MODIFIED:20221130T200408Z
UID:1552-1695234600-1695234600@www.vahdonvpk.net
SUMMARY:Potilaan siirto ja tukeminen
DESCRIPTION:
URL:https://www.vahdonvpk.net/tapahtuma/potilaan-siirto-ja-tukeminen/
LOCATION:Paloasema
CATEGORIES:Hälytysosasto
END:VEVENT
BEGIN:VEVENT
DTSTART;TZID=Europe/Helsinki:20230913T183000
DTEND;TZID=Europe/Helsinki:20230913T183000
DTSTAMP:20260422T170317
CREATED:20221130T200407Z
LAST-MODIFIED:20221130T200407Z
UID:1551-1694629800-1694629800@www.vahdonvpk.net
SUMMARY:Kohdetutustuminen varjotalli
DESCRIPTION:
URL:https://www.vahdonvpk.net/tapahtuma/kohdetutustuminen-varjotalli-2/
LOCATION:Paloasema
CATEGORIES:Hälytysosasto
END:VEVENT
BEGIN:VEVENT
DTSTART;TZID=Europe/Helsinki:20230906T183000
DTEND;TZID=Europe/Helsinki:20230906T183000
DTSTAMP:20260422T170317
CREATED:20221130T200407Z
LAST-MODIFIED:20221130T200407Z
UID:1550-1694025000-1694025000@www.vahdonvpk.net
SUMMARY:Tutustuminen eläinpelastusyksikköön (lemu/mietoinen)
DESCRIPTION:
URL:https://www.vahdonvpk.net/tapahtuma/tutustuminen-elainpelastusyksikkoon-lemu-mietoinen/
LOCATION:Paloasema
CATEGORIES:Hälytysosasto
END:VEVENT
BEGIN:VEVENT
DTSTART;TZID=Europe/Helsinki:20230830T183000
DTEND;TZID=Europe/Helsinki:20230830T183000
DTSTAMP:20260422T170317
CREATED:20221130T200407Z
LAST-MODIFIED:20221130T200407Z
UID:1549-1693420200-1693420200@www.vahdonvpk.net
SUMMARY:Tieliikennepelastaminen: potilaan irroittaminen
DESCRIPTION:
URL:https://www.vahdonvpk.net/tapahtuma/tieliikennepelastaminen-potilaan-irroittaminen/
LOCATION:Paloasema
CATEGORIES:Hälytysosasto
END:VEVENT
BEGIN:VEVENT
DTSTART;TZID=Europe/Helsinki:20230823T183000
DTEND;TZID=Europe/Helsinki:20230823T183000
DTSTAMP:20260422T170317
CREATED:20221130T200406Z
LAST-MODIFIED:20221130T200406Z
UID:1548-1692815400-1692815400@www.vahdonvpk.net
SUMMARY:Ajoneuvon stabilointi ja hydrauliset pelastusvälineet
DESCRIPTION:
URL:https://www.vahdonvpk.net/tapahtuma/ajoneuvon-stabilointi-ja-hydrauliset-pelastusvalineet/
LOCATION:Paloasema
CATEGORIES:Hälytysosasto
END:VEVENT
BEGIN:VEVENT
DTSTART;TZID=Europe/Helsinki:20230816T183000
DTEND;TZID=Europe/Helsinki:20230816T183000
DTSTAMP:20260422T170317
CREATED:20221130T200353Z
LAST-MODIFIED:20221130T200353Z
UID:1547-1692210600-1692210600@www.vahdonvpk.net
SUMMARY:Kylmäsavusukellus
DESCRIPTION:
URL:https://www.vahdonvpk.net/tapahtuma/kylmasavusukellus-2/
LOCATION:Paloasema
CATEGORIES:Hälytysosasto
END:VEVENT
BEGIN:VEVENT
DTSTART;TZID=Europe/Helsinki:20230809T183000
DTEND;TZID=Europe/Helsinki:20230809T183000
DTSTAMP:20260422T170317
CREATED:20221130T200353Z
LAST-MODIFIED:20221130T200353Z
UID:1546-1691605800-1691605800@www.vahdonvpk.net
SUMMARY:Kuivuripalot
DESCRIPTION:
URL:https://www.vahdonvpk.net/tapahtuma/kuivuripalot/
LOCATION:Paloasema
CATEGORIES:Hälytysosasto
END:VEVENT
BEGIN:VEVENT
DTSTART;TZID=Europe/Helsinki:20230802T183000
DTEND;TZID=Europe/Helsinki:20230802T183000
DTSTAMP:20260422T170317
CREATED:20221130T200352Z
LAST-MODIFIED:20221130T200352Z
UID:1545-1691001000-1691001000@www.vahdonvpk.net
SUMMARY:Oven murtaminen ja sammutusraivaus
DESCRIPTION:
URL:https://www.vahdonvpk.net/tapahtuma/oven-murtaminen-ja-sammutusraivaus/
LOCATION:Paloasema
CATEGORIES:Hälytysosasto
END:VEVENT
BEGIN:VEVENT
DTSTART;TZID=Europe/Helsinki:20230726T183000
DTEND;TZID=Europe/Helsinki:20230726T183000
DTSTAMP:20260422T170317
CREATED:20221130T200352Z
LAST-MODIFIED:20221130T200352Z
UID:1544-1690396200-1690396200@www.vahdonvpk.net
SUMMARY:Ajoharjoittelu paikkatuntemus
DESCRIPTION:
URL:https://www.vahdonvpk.net/tapahtuma/ajoharjoittelu-paikkatuntemus/
LOCATION:Paloasema
CATEGORIES:Hälytysosasto
END:VEVENT
BEGIN:VEVENT
DTSTART;TZID=Europe/Helsinki:20230719T183000
DTEND;TZID=Europe/Helsinki:20230719T183000
DTSTAMP:20260422T170317
CREATED:20221130T200352Z
LAST-MODIFIED:20221130T200352Z
UID:1543-1689791400-1689791400@www.vahdonvpk.net
SUMMARY:Putoamisvaarallisella alueella työskentely
DESCRIPTION:
URL:https://www.vahdonvpk.net/tapahtuma/putoamisvaarallisella-alueella-tyoskentely/
LOCATION:Paloasema
CATEGORIES:Hälytysosasto
END:VEVENT
BEGIN:VEVENT
DTSTART;TZID=Europe/Helsinki:20230712T183000
DTEND;TZID=Europe/Helsinki:20230712T183000
DTSTAMP:20260422T170317
CREATED:20221130T200338Z
LAST-MODIFIED:20221130T200338Z
UID:1542-1689186600-1689186600@www.vahdonvpk.net
SUMMARY:Solmut ja kalustonostot
DESCRIPTION:
URL:https://www.vahdonvpk.net/tapahtuma/solmut-ja-kalustonostot/
LOCATION:Paloasema
CATEGORIES:Hälytysosasto
END:VEVENT
BEGIN:VEVENT
DTSTART;TZID=Europe/Helsinki:20230705T183000
DTEND;TZID=Europe/Helsinki:20230705T183000
DTSTAMP:20260422T170317
CREATED:20221130T200338Z
LAST-MODIFIED:20221130T200338Z
UID:1541-1688581800-1688581800@www.vahdonvpk.net
SUMMARY:Kylmäsavusukellus
DESCRIPTION:
URL:https://www.vahdonvpk.net/tapahtuma/kylmasavusukellus/
LOCATION:Paloasema
CATEGORIES:Hälytysosasto
END:VEVENT
BEGIN:VEVENT
DTSTART;TZID=Europe/Helsinki:20230628T183000
DTEND;TZID=Europe/Helsinki:20230628T183000
DTSTAMP:20260422T170317
CREATED:20221130T200337Z
LAST-MODIFIED:20221130T200337Z
UID:1540-1687977000-1687977000@www.vahdonvpk.net
SUMMARY:Elvytys
DESCRIPTION:
URL:https://www.vahdonvpk.net/tapahtuma/elvytys-2/
LOCATION:Paloasema
CATEGORIES:Hälytysosasto
END:VEVENT
BEGIN:VEVENT
DTSTART;TZID=Europe/Helsinki:20230621T183000
DTEND;TZID=Europe/Helsinki:20230621T183000
DTSTAMP:20260422T170317
CREATED:20221130T200337Z
LAST-MODIFIED:20221130T200337Z
UID:1539-1687372200-1687372200@www.vahdonvpk.net
SUMMARY:Palopostit ja vesiasemat
DESCRIPTION:
URL:https://www.vahdonvpk.net/tapahtuma/palopostit-ja-vesiasemat/
LOCATION:Paloasema
CATEGORIES:Hälytysosasto
END:VEVENT
BEGIN:VEVENT
DTSTART;TZID=Europe/Helsinki:20230614T183000
DTEND;TZID=Europe/Helsinki:20230614T183000
DTSTAMP:20260422T170317
CREATED:20221130T200337Z
LAST-MODIFIED:20221130T200337Z
UID:1538-1686767400-1686767400@www.vahdonvpk.net
SUMMARY:Pintapelastus
DESCRIPTION:
URL:https://www.vahdonvpk.net/tapahtuma/pintapelastus-5/
LOCATION:Paloasema
CATEGORIES:Hälytysosasto
END:VEVENT
BEGIN:VEVENT
DTSTART;TZID=Europe/Helsinki:20230607T183000
DTEND;TZID=Europe/Helsinki:20230607T183000
DTSTAMP:20260422T170317
CREATED:20221130T200323Z
LAST-MODIFIED:20221130T200323Z
UID:1537-1686162600-1686162600@www.vahdonvpk.net
SUMMARY:Oulun mallin testi
DESCRIPTION:
URL:https://www.vahdonvpk.net/tapahtuma/oulun-mallin-testi/
LOCATION:Paloasema
CATEGORIES:Hälytysosasto
END:VEVENT
BEGIN:VEVENT
DTSTART;TZID=Europe/Helsinki:20230531T183000
DTEND;TZID=Europe/Helsinki:20230531T183000
DTSTAMP:20260422T170317
CREATED:20221130T200323Z
LAST-MODIFIED:20221130T200323Z
UID:1536-1685557800-1685557800@www.vahdonvpk.net
SUMMARY:Maasto- ja metsäpalot
DESCRIPTION:
URL:https://www.vahdonvpk.net/tapahtuma/maasto-ja-metsapalot-2/
LOCATION:Paloasema
CATEGORIES:Hälytysosasto
END:VEVENT
BEGIN:VEVENT
DTSTART;TZID=Europe/Helsinki:20230524T183000
DTEND;TZID=Europe/Helsinki:20230524T183000
DTSTAMP:20260422T170317
CREATED:20221130T200322Z
LAST-MODIFIED:20221130T200322Z
UID:1535-1684953000-1684953000@www.vahdonvpk.net
SUMMARY:Lisävesiselvitykset
DESCRIPTION:
URL:https://www.vahdonvpk.net/tapahtuma/lisavesiselvitykset/
LOCATION:Paloasema
CATEGORIES:Hälytysosasto
END:VEVENT
BEGIN:VEVENT
DTSTART;TZID=Europe/Helsinki:20230515T183000
DTEND;TZID=Europe/Helsinki:20230515T183000
DTSTAMP:20260422T170317
CREATED:20221130T200322Z
LAST-MODIFIED:20221130T200322Z
UID:1534-1684175400-1684175400@www.vahdonvpk.net
SUMMARY:Liikennevälinepalot
DESCRIPTION:
URL:https://www.vahdonvpk.net/tapahtuma/liikennevalinepalot-2/
LOCATION:Paloasema
CATEGORIES:Hälytysosasto
END:VEVENT
BEGIN:VEVENT
DTSTART;TZID=Europe/Helsinki:20230510T183000
DTEND;TZID=Europe/Helsinki:20230510T183000
DTSTAMP:20260422T170317
CREATED:20221130T200322Z
LAST-MODIFIED:20221130T200322Z
UID:1533-1683743400-1683743400@www.vahdonvpk.net
SUMMARY:Kylmäsavusukellus: etsintä
DESCRIPTION:
URL:https://www.vahdonvpk.net/tapahtuma/kylmasavusukellus-etsinta/
LOCATION:Paloasema
CATEGORIES:Hälytysosasto
END:VEVENT
BEGIN:VEVENT
DTSTART;TZID=Europe/Helsinki:20230503T183000
DTEND;TZID=Europe/Helsinki:20230503T183000
DTSTAMP:20260422T170317
CREATED:20221130T200307Z
LAST-MODIFIED:20221130T200307Z
UID:1532-1683138600-1683138600@www.vahdonvpk.net
SUMMARY:Pitkät selvitykset
DESCRIPTION:
URL:https://www.vahdonvpk.net/tapahtuma/pitkat-selvitykset/
LOCATION:Paloasema
CATEGORIES:Hälytysosasto
END:VEVENT
BEGIN:VEVENT
DTSTART;TZID=Europe/Helsinki:20230426T183000
DTEND;TZID=Europe/Helsinki:20230426T183000
DTSTAMP:20260422T170317
CREATED:20221130T200307Z
LAST-MODIFIED:20221130T200307Z
UID:1531-1682533800-1682533800@www.vahdonvpk.net
SUMMARY:Tilanneharjoitus: liikenneonnettomuus
DESCRIPTION:
URL:https://www.vahdonvpk.net/tapahtuma/tilanneharjoitus-liikenneonnettomuus-2/
CATEGORIES:Hälytysosasto
END:VEVENT
BEGIN:VEVENT
DTSTART;TZID=Europe/Helsinki:20230419T183000
DTEND;TZID=Europe/Helsinki:20230419T183000
DTSTAMP:20260422T170317
CREATED:20221130T200307Z
LAST-MODIFIED:20221130T200307Z
UID:1530-1681929000-1681929000@www.vahdonvpk.net
SUMMARY:Ketjuveto
DESCRIPTION:
URL:https://www.vahdonvpk.net/tapahtuma/ketjuveto/
CATEGORIES:Hälytysosasto
END:VEVENT
BEGIN:VEVENT
DTSTART;TZID=Europe/Helsinki:20230412T183000
DTEND;TZID=Europe/Helsinki:20230412T183000
DTSTAMP:20260422T170317
CREATED:20221130T200307Z
LAST-MODIFIED:20221130T200307Z
UID:1529-1681324200-1681324200@www.vahdonvpk.net
SUMMARY:Potilaan hoito ja siirtäminen liikenneonnettomuuksissa
DESCRIPTION:
URL:https://www.vahdonvpk.net/tapahtuma/potilaan-hoito-ja-siirtaminen-liikenneonnettomuuksissa/
CATEGORIES:Hälytysosasto
END:VEVENT
BEGIN:VEVENT
DTSTART;TZID=Europe/Helsinki:20230405T183000
DTEND;TZID=Europe/Helsinki:20230405T183000
DTSTAMP:20260422T170317
CREATED:20221130T200306Z
LAST-MODIFIED:20221130T200306Z
UID:1528-1680719400-1680719400@www.vahdonvpk.net
SUMMARY:Työturvallisuus liikenneonnettomuuksissa
DESCRIPTION:
URL:https://www.vahdonvpk.net/tapahtuma/tyoturvallisuus-liikenneonnettomuuksissa/
LOCATION:Paloasema
CATEGORIES:Hälytysosasto
END:VEVENT
BEGIN:VEVENT
DTSTART;TZID=Europe/Helsinki:20230329T183000
DTEND;TZID=Europe/Helsinki:20230329T183000
DTSTAMP:20260422T170317
CREATED:20221130T200304Z
LAST-MODIFIED:20221130T200304Z
UID:1527-1680114600-1680114600@www.vahdonvpk.net
SUMMARY:Tilanneharjoitus: rakennuspalo
DESCRIPTION:
URL:https://www.vahdonvpk.net/tapahtuma/tilanneharjoitus-rakennuspalo/
LOCATION:Paloasema
CATEGORIES:Hälytysosasto
END:VEVENT
BEGIN:VEVENT
DTSTART;TZID=Europe/Helsinki:20230322T183000
DTEND;TZID=Europe/Helsinki:20230322T183000
DTSTAMP:20260422T170317
CREATED:20221130T200303Z
LAST-MODIFIED:20221130T200303Z
UID:1526-1679509800-1679509800@www.vahdonvpk.net
SUMMARY:Rakennuspalot taktiikka ja kylmäsavu
DESCRIPTION:
URL:https://www.vahdonvpk.net/tapahtuma/rakennuspalot-taktiikka-ja-kylmasavu/
LOCATION:Paloasema
CATEGORIES:Hälytysosasto
END:VEVENT
BEGIN:VEVENT
DTSTART;TZID=Europe/Helsinki:20230315T183000
DTEND;TZID=Europe/Helsinki:20230315T183000
DTSTAMP:20260422T170317
CREATED:20221130T200303Z
LAST-MODIFIED:20221130T200303Z
UID:1525-1678905000-1678905000@www.vahdonvpk.net
SUMMARY:Rakennuspalot: vaihtoehtoiset menetelmät
DESCRIPTION:
URL:https://www.vahdonvpk.net/tapahtuma/rakennuspalot-vaihtoehtoiset-menetelmat/
LOCATION:Paloasema
CATEGORIES:Hälytysosasto
END:VEVENT
BEGIN:VEVENT
DTSTART;TZID=Europe/Helsinki:20230308T183000
DTEND;TZID=Europe/Helsinki:20230308T213000
DTSTAMP:20260422T170317
CREATED:20221130T200302Z
LAST-MODIFIED:20230130T142251Z
UID:1524-1678300200-1678311000@www.vahdonvpk.net
SUMMARY:Pistosuihkuputket
DESCRIPTION:
URL:https://www.vahdonvpk.net/tapahtuma/pistosuihkuputket/
LOCATION:Paloasema
CATEGORIES:Hälytysosasto
END:VEVENT
BEGIN:VEVENT
DTSTART;TZID=Europe/Helsinki:20230301T183000
DTEND;TZID=Europe/Helsinki:20230301T183000
DTSTAMP:20260422T170317
CREATED:20221130T200302Z
LAST-MODIFIED:20221130T200302Z
UID:1523-1677695400-1677695400@www.vahdonvpk.net
SUMMARY:Selvitysmallit rakennuspaloissa
DESCRIPTION:
URL:https://www.vahdonvpk.net/tapahtuma/selvitysmallit-rakennuspaloissa/
LOCATION:Paloasema
CATEGORIES:Hälytysosasto
END:VEVENT
END:VCALENDAR