BEGIN:VCALENDAR
VERSION:2.0
PRODID:-//Vahdon VPK - ECPv6.6.4.1//NONSGML v1.0//EN
CALSCALE:GREGORIAN
METHOD:PUBLISH
X-WR-CALNAME:Vahdon VPK
X-ORIGINAL-URL:https://www.vahdonvpk.net
X-WR-CALDESC:Events for Vahdon VPK
REFRESH-INTERVAL;VALUE=DURATION:PT1H
X-Robots-Tag:noindex
X-PUBLISHED-TTL:PT1H
BEGIN:VTIMEZONE
TZID:Europe/Helsinki
BEGIN:DAYLIGHT
TZOFFSETFROM:+0200
TZOFFSETTO:+0300
TZNAME:EEST
DTSTART:20210328T010000
END:DAYLIGHT
BEGIN:STANDARD
TZOFFSETFROM:+0300
TZOFFSETTO:+0200
TZNAME:EET
DTSTART:20211031T010000
END:STANDARD
END:VTIMEZONE
BEGIN:VEVENT
DTSTART;TZID=Europe/Helsinki:20210303T183000
DTEND;TZID=Europe/Helsinki:20210303T183000
DTSTAMP:20260423T050507
CREATED:20211016T174959Z
LAST-MODIFIED:20211016T174959Z
UID:1209-1614796200-1614796200@www.vahdonvpk.net
SUMMARY:Häkämyrkytys\, palovammat
DESCRIPTION:
URL:https://www.vahdonvpk.net/tapahtuma/hakamyrkytys-palovammat/
LOCATION:Paloasema
CATEGORIES:Hälytysosasto
END:VEVENT
BEGIN:VEVENT
DTSTART;TZID=Europe/Helsinki:20210224T183000
DTEND;TZID=Europe/Helsinki:20210224T183000
DTSTAMP:20260423T050507
CREATED:20211016T174958Z
LAST-MODIFIED:20211016T174958Z
UID:1208-1614191400-1614191400@www.vahdonvpk.net
SUMMARY:Tutustuminen\, N181\, N182
DESCRIPTION:
URL:https://www.vahdonvpk.net/tapahtuma/tutustuminen-n181-n182/
LOCATION:Paloasema
CATEGORIES:Hälytysosasto
END:VEVENT
BEGIN:VEVENT
DTSTART;TZID=Europe/Helsinki:20210217T183000
DTEND;TZID=Europe/Helsinki:20210217T183000
DTSTAMP:20260423T050507
CREATED:20211016T174958Z
LAST-MODIFIED:20211016T174958Z
UID:1207-1613586600-1613586600@www.vahdonvpk.net
SUMMARY:Öljyntorjunta
DESCRIPTION:
URL:https://www.vahdonvpk.net/tapahtuma/oljyntorjunta/
LOCATION:Paloasema
CATEGORIES:Hälytysosasto
END:VEVENT
BEGIN:VEVENT
DTSTART;TZID=Europe/Helsinki:20210210T183000
DTEND;TZID=Europe/Helsinki:20210210T183000
DTSTAMP:20260423T050507
CREATED:20211016T174955Z
LAST-MODIFIED:20211016T174955Z
UID:1206-1612981800-1612981800@www.vahdonvpk.net
SUMMARY:Myrskyvahingot
DESCRIPTION:
URL:https://www.vahdonvpk.net/tapahtuma/myrskyvahingot/
LOCATION:Paloasema
CATEGORIES:Hälytysosasto
END:VEVENT
BEGIN:VEVENT
DTSTART;TZID=Europe/Helsinki:20210203T183000
DTEND;TZID=Europe/Helsinki:20210203T183000
DTSTAMP:20260423T050507
CREATED:20211016T174955Z
LAST-MODIFIED:20211016T174955Z
UID:1205-1612377000-1612377000@www.vahdonvpk.net
SUMMARY:Ensivastevälineet
DESCRIPTION:
URL:https://www.vahdonvpk.net/tapahtuma/ensivastevalineet/
LOCATION:Paloasema
CATEGORIES:Hälytysosasto
END:VEVENT
BEGIN:VEVENT
DTSTART;TZID=Europe/Helsinki:20210127T183000
DTEND;TZID=Europe/Helsinki:20210127T183000
DTSTAMP:20260423T050507
CREATED:20211016T174954Z
LAST-MODIFIED:20211016T174954Z
UID:1204-1611772200-1611772200@www.vahdonvpk.net
SUMMARY:Viestiliikenne\, ajoharjoittelu
DESCRIPTION:
URL:https://www.vahdonvpk.net/tapahtuma/viestiliikenne-ajoharjoittelu/
LOCATION:Paloasema
CATEGORIES:Hälytysosasto
END:VEVENT
BEGIN:VEVENT
DTSTART;TZID=Europe/Helsinki:20210120T183000
DTEND;TZID=Europe/Helsinki:20210120T183000
DTSTAMP:20260423T050507
CREATED:20211016T174954Z
LAST-MODIFIED:20211016T174954Z
UID:1203-1611167400-1611167400@www.vahdonvpk.net
SUMMARY:Henkilökohtaiset suojavarusteet\, kaluston huolto
DESCRIPTION:
URL:https://www.vahdonvpk.net/tapahtuma/henkilokohtaiset-suojavarusteet-kaluston-huolto/
LOCATION:Paloasema
CATEGORIES:Hälytysosasto
END:VEVENT
BEGIN:VEVENT
DTSTART;TZID=Europe/Helsinki:20210113T183000
DTEND;TZID=Europe/Helsinki:20210113T183000
DTSTAMP:20260423T050507
CREATED:20211016T174954Z
LAST-MODIFIED:20211016T174954Z
UID:1202-1610562600-1610562600@www.vahdonvpk.net
SUMMARY:Potilaan kohtaaminen ja tutkiminen
DESCRIPTION:
URL:https://www.vahdonvpk.net/tapahtuma/potilaan-kohtaaminen-ja-tutkiminen/
LOCATION:Paloasema
CATEGORIES:Hälytysosasto
END:VEVENT
END:VCALENDAR