BEGIN:VCALENDAR
VERSION:2.0
PRODID:-//Vahdon VPK - ECPv6.6.4.1//NONSGML v1.0//EN
CALSCALE:GREGORIAN
METHOD:PUBLISH
X-WR-CALNAME:Vahdon VPK
X-ORIGINAL-URL:https://www.vahdonvpk.net
X-WR-CALDESC:Events for Vahdon VPK
REFRESH-INTERVAL;VALUE=DURATION:PT1H
X-Robots-Tag:noindex
X-PUBLISHED-TTL:PT1H
BEGIN:VTIMEZONE
TZID:Europe/Helsinki
BEGIN:DAYLIGHT
TZOFFSETFROM:+0200
TZOFFSETTO:+0300
TZNAME:EEST
DTSTART:20230326T010000
END:DAYLIGHT
BEGIN:STANDARD
TZOFFSETFROM:+0300
TZOFFSETTO:+0200
TZNAME:EET
DTSTART:20231029T010000
END:STANDARD
BEGIN:DAYLIGHT
TZOFFSETFROM:+0200
TZOFFSETTO:+0300
TZNAME:EEST
DTSTART:20240331T010000
END:DAYLIGHT
BEGIN:STANDARD
TZOFFSETFROM:+0300
TZOFFSETTO:+0200
TZNAME:EET
DTSTART:20241027T010000
END:STANDARD
END:VTIMEZONE
BEGIN:VEVENT
DTSTART;TZID=Europe/Helsinki:20240522T183000
DTEND;TZID=Europe/Helsinki:20240522T213000
DTSTAMP:20260422T140847
CREATED:20240505T140214Z
LAST-MODIFIED:20240505T140259Z
UID:2266-1716402600-1716413400@www.vahdonvpk.net
SUMMARY:Rakenteellinen paloturvallisuus
DESCRIPTION:
URL:https://www.vahdonvpk.net/tapahtuma/rakenteellinen-paloturvallisuus-2/
CATEGORIES:Hälytysosasto
END:VEVENT
BEGIN:VEVENT
DTSTART;TZID=Europe/Helsinki:20240515T183000
DTEND;TZID=Europe/Helsinki:20240515T213000
DTSTAMP:20260422T140847
CREATED:20240505T140149Z
LAST-MODIFIED:20240505T140149Z
UID:2264-1715797800-1715808600@www.vahdonvpk.net
SUMMARY:Akkupalot
DESCRIPTION:
URL:https://www.vahdonvpk.net/tapahtuma/akkupalot/
CATEGORIES:Hälytysosasto
END:VEVENT
BEGIN:VEVENT
DTSTART;TZID=Europe/Helsinki:20240508T183000
DTEND;TZID=Europe/Helsinki:20240508T213000
DTSTAMP:20260422T140847
CREATED:20240505T140111Z
LAST-MODIFIED:20240505T140111Z
UID:2262-1715193000-1715203800@www.vahdonvpk.net
SUMMARY:Ulkoa sammuttaminen rakennuspaloissa
DESCRIPTION:
URL:https://www.vahdonvpk.net/tapahtuma/ulkoa-sammuttaminen-rakennuspaloissa/
CATEGORIES:Hälytysosasto
END:VEVENT
BEGIN:VEVENT
DTSTART;TZID=Europe/Helsinki:20240420T100000
DTEND;TZID=Europe/Helsinki:20240420T123000
DTSTAMP:20260422T140847
CREATED:20240111T164349Z
LAST-MODIFIED:20240111T164349Z
UID:2143-1713607200-1713616200@www.vahdonvpk.net
SUMMARY:Turvallisuustapahtuma
DESCRIPTION:
URL:https://www.vahdonvpk.net/tapahtuma/turvallisuustapahtuma/
LOCATION:Paloasema
CATEGORIES:Hälytysosasto,Nais- ja tukiosasto
END:VEVENT
BEGIN:VEVENT
DTSTART;TZID=Europe/Helsinki:20240313T180000
DTEND;TZID=Europe/Helsinki:20240313T210000
DTSTAMP:20260422T140847
CREATED:20231210T171215Z
LAST-MODIFIED:20240312T173234Z
UID:2042-1710352800-1710363600@www.vahdonvpk.net
SUMMARY:Kohdetutustuminen Vahdon Kirkko
DESCRIPTION:
URL:https://www.vahdonvpk.net/tapahtuma/kohdetutustuminen-vahdon-kirkko-2/
LOCATION:Paloasema
CATEGORIES:Hälytysosasto
END:VEVENT
BEGIN:VEVENT
DTSTART;TZID=Europe/Helsinki:20240306T183000
DTEND;TZID=Europe/Helsinki:20240306T213000
DTSTAMP:20260422T140847
CREATED:20231210T171216Z
LAST-MODIFIED:20240111T105025Z
UID:2043-1709749800-1709760600@www.vahdonvpk.net
SUMMARY:Rakenteellinen paloturvallisuus
DESCRIPTION:
URL:https://www.vahdonvpk.net/tapahtuma/rakenteellinen-paloturvallisuus/
LOCATION:Paloasema
CATEGORIES:Hälytysosasto
END:VEVENT
BEGIN:VEVENT
DTSTART;TZID=Europe/Helsinki:20240228T183000
DTEND;TZID=Europe/Helsinki:20240228T213000
DTSTAMP:20260422T140847
CREATED:20231210T171216Z
LAST-MODIFIED:20240228T153824Z
UID:2044-1709145000-1709155800@www.vahdonvpk.net
SUMMARY:Savutuuletus
DESCRIPTION:
URL:https://www.vahdonvpk.net/tapahtuma/savutuuletus/
LOCATION:Paloasema
CATEGORIES:Hälytysosasto
END:VEVENT
BEGIN:VEVENT
DTSTART;TZID=Europe/Helsinki:20240221T183000
DTEND;TZID=Europe/Helsinki:20240221T213000
DTSTAMP:20260422T140847
CREATED:20231210T171213Z
LAST-MODIFIED:20240111T105201Z
UID:2039-1708540200-1708551000@www.vahdonvpk.net
SUMMARY:EVY
DESCRIPTION:
URL:https://www.vahdonvpk.net/tapahtuma/evy/
LOCATION:Paloasema
CATEGORIES:Ensivaste,Hälytysosasto
END:VEVENT
BEGIN:VEVENT
DTSTART;TZID=Europe/Helsinki:20240214T183000
DTEND;TZID=Europe/Helsinki:20240214T213000
DTSTAMP:20260422T140847
CREATED:20231210T171215Z
LAST-MODIFIED:20240111T105531Z
UID:2040-1707935400-1707946200@www.vahdonvpk.net
SUMMARY:Tieliikennepelastamisen kalusto
DESCRIPTION:
URL:https://www.vahdonvpk.net/tapahtuma/tieliikennepelastamisen-kalusto/
CATEGORIES:Hälytysosasto
END:VEVENT
BEGIN:VEVENT
DTSTART;TZID=Europe/Helsinki:20240207T183000
DTEND;TZID=Europe/Helsinki:20240207T213000
DTSTAMP:20260422T140847
CREATED:20231210T171215Z
LAST-MODIFIED:20240111T131043Z
UID:2041-1707330600-1707341400@www.vahdonvpk.net
SUMMARY:Kohdetutustuminen Hoitolatukku
DESCRIPTION:
URL:https://www.vahdonvpk.net/tapahtuma/kylmasavuvukellus-etsinta/
LOCATION:Paloasema
CATEGORIES:Hälytysosasto
END:VEVENT
BEGIN:VEVENT
DTSTART;TZID=Europe/Helsinki:20240131T183000
DTEND;TZID=Europe/Helsinki:20240131T213000
DTSTAMP:20260422T140847
CREATED:20231210T171212Z
LAST-MODIFIED:20240131T153938Z
UID:2038-1706725800-1706736600@www.vahdonvpk.net
SUMMARY:Tieliikennepelastuskalusto
DESCRIPTION:
URL:https://www.vahdonvpk.net/tapahtuma/sahkoajoneuvot/
LOCATION:Paloasema
CATEGORIES:Hälytysosasto
END:VEVENT
BEGIN:VEVENT
DTSTART;TZID=Europe/Helsinki:20240124T183000
DTEND;TZID=Europe/Helsinki:20240124T213000
DTSTAMP:20260422T140847
CREATED:20231210T171210Z
LAST-MODIFIED:20240111T104842Z
UID:2035-1706121000-1706131800@www.vahdonvpk.net
SUMMARY:Ajoharjoittelu ja turvallinen hälytysajo
DESCRIPTION:
URL:https://www.vahdonvpk.net/tapahtuma/yleistaktiikka/
LOCATION:Paloasema
CATEGORIES:Hälytysosasto
END:VEVENT
BEGIN:VEVENT
DTSTART;TZID=Europe/Helsinki:20240117T183000
DTEND;TZID=Europe/Helsinki:20240117T213000
DTSTAMP:20260422T140847
CREATED:20231210T171212Z
LAST-MODIFIED:20240111T104519Z
UID:2037-1705516200-1705527000@www.vahdonvpk.net
SUMMARY:Henkilökohtaiset suojavarusteet ja altistuminen
DESCRIPTION:
URL:https://www.vahdonvpk.net/tapahtuma/henkilokohtaiset-suojavarusteet-ja-altistuminen/
LOCATION:Paloasema
CATEGORIES:Hälytysosasto
END:VEVENT
BEGIN:VEVENT
DTSTART;TZID=Europe/Helsinki:20231213T183000
DTEND;TZID=Europe/Helsinki:20231213T213000
DTSTAMP:20260422T140847
CREATED:20221130T200452Z
LAST-MODIFIED:20231210T162435Z
UID:1564-1702492200-1702503000@www.vahdonvpk.net
SUMMARY:Fyysisen toimintakyvyn ylläpito ja testaaminen + kaluston huolto
DESCRIPTION:
URL:https://www.vahdonvpk.net/tapahtuma/pintapelastus-6/
CATEGORIES:Hälytysosasto
END:VEVENT
BEGIN:VEVENT
DTSTART;TZID=Europe/Helsinki:20231129T183000
DTEND;TZID=Europe/Helsinki:20231129T213000
DTSTAMP:20260422T140847
CREATED:20221130T191942Z
LAST-MODIFIED:20230130T142154Z
UID:1513-1701282600-1701293400@www.vahdonvpk.net
SUMMARY:Tutustuminen RVS3058
DESCRIPTION:
URL:https://www.vahdonvpk.net/tapahtuma/tutustuminen-rvs3058-2/
LOCATION:Paloasema
CATEGORIES:Hälytysosasto
END:VEVENT
BEGIN:VEVENT
DTSTART;TZID=Europe/Helsinki:20231122T183000
DTEND;TZID=Europe/Helsinki:20231122T213000
DTSTAMP:20260422T140847
CREATED:20221130T191943Z
LAST-MODIFIED:20231115T192523Z
UID:1514-1700677800-1700688600@www.vahdonvpk.net
SUMMARY:Kylmäsavusukellus
DESCRIPTION:
URL:https://www.vahdonvpk.net/tapahtuma/oljyntorjunta-ja-vaarallisten-aineiden-onnettomuudet/
LOCATION:Paloasema
CATEGORIES:Hälytysosasto
END:VEVENT
BEGIN:VEVENT
DTSTART;TZID=Europe/Helsinki:20231115T183000
DTEND;TZID=Europe/Helsinki:20231115T183000
DTSTAMP:20260422T140847
CREATED:20221130T200437Z
LAST-MODIFIED:20221130T200437Z
UID:1560-1700073000-1700073000@www.vahdonvpk.net
SUMMARY:Kylmäsavusukellus
DESCRIPTION:
URL:https://www.vahdonvpk.net/tapahtuma/kylmasavusukellus-3/
LOCATION:Paloasema
CATEGORIES:Hälytysosasto
END:VEVENT
BEGIN:VEVENT
DTSTART;TZID=Europe/Helsinki:20231108T183000
DTEND;TZID=Europe/Helsinki:20231108T183000
DTSTAMP:20260422T140847
CREATED:20221130T200437Z
LAST-MODIFIED:20221130T200437Z
UID:1559-1699468200-1699468200@www.vahdonvpk.net
SUMMARY:Toiminta paloilmoittimella
DESCRIPTION:
URL:https://www.vahdonvpk.net/tapahtuma/toiminta-paloilmoittimella/
LOCATION:Paloasema
CATEGORIES:Hälytysosasto
END:VEVENT
BEGIN:VEVENT
DTSTART;TZID=Europe/Helsinki:20231101T183000
DTEND;TZID=Europe/Helsinki:20231101T183000
DTSTAMP:20260422T140847
CREATED:20221130T200437Z
LAST-MODIFIED:20221130T200437Z
UID:1558-1698863400-1698863400@www.vahdonvpk.net
SUMMARY:Kohdetutustuminen Vahdon kirkko
DESCRIPTION:
URL:https://www.vahdonvpk.net/tapahtuma/kohdetutustuminen-vahdon-kirkko/
LOCATION:Paloasema
CATEGORIES:Hälytysosasto
END:VEVENT
BEGIN:VEVENT
DTSTART;TZID=Europe/Helsinki:20231004T183000
DTEND;TZID=Europe/Helsinki:20231004T183000
DTSTAMP:20260422T140847
CREATED:20221130T200423Z
LAST-MODIFIED:20221130T200423Z
UID:1557-1696444200-1696444200@www.vahdonvpk.net
SUMMARY:Vahingontorjunta: vesivahingot
DESCRIPTION:
URL:https://www.vahdonvpk.net/tapahtuma/vahingontorjunta-vesivahingot/
LOCATION:Paloasema
CATEGORIES:Hälytysosasto
END:VEVENT
BEGIN:VEVENT
DTSTART;TZID=Europe/Helsinki:20231004T183000
DTEND;TZID=Europe/Helsinki:20231004T183000
DTSTAMP:20260422T140847
CREATED:20221130T200423Z
LAST-MODIFIED:20221130T200423Z
UID:1556-1696444200-1696444200@www.vahdonvpk.net
SUMMARY:Vauriopuut ja myrskytuhot
DESCRIPTION:
URL:https://www.vahdonvpk.net/tapahtuma/vauriopuut-ja-myrskytuhot/
LOCATION:Paloasema
CATEGORIES:Hälytysosasto
END:VEVENT
BEGIN:VEVENT
DTSTART;TZID=Europe/Helsinki:20231004T183000
DTEND;TZID=Europe/Helsinki:20231004T183000
DTSTAMP:20260422T140847
CREATED:20221130T200422Z
LAST-MODIFIED:20221130T200422Z
UID:1555-1696444200-1696444200@www.vahdonvpk.net
SUMMARY:Vahingontorjunta: katto
DESCRIPTION:
URL:https://www.vahdonvpk.net/tapahtuma/vahingontorjunta-katto/
LOCATION:Paloasema
CATEGORIES:Hälytysosasto
END:VEVENT
BEGIN:VEVENT
DTSTART;TZID=Europe/Helsinki:20231004T183000
DTEND;TZID=Europe/Helsinki:20231004T183000
DTSTAMP:20260422T140847
CREATED:20221130T200422Z
LAST-MODIFIED:20221130T200422Z
UID:1554-1696444200-1696444200@www.vahdonvpk.net
SUMMARY:Rintakipu ja hengitysvaikeus
DESCRIPTION:
URL:https://www.vahdonvpk.net/tapahtuma/rintakipu-ja-hengitysvaikeus-2/
LOCATION:Paloasema
CATEGORIES:Hälytysosasto
END:VEVENT
BEGIN:VEVENT
DTSTART;TZID=Europe/Helsinki:20230927T183000
DTEND;TZID=Europe/Helsinki:20230927T183000
DTSTAMP:20260422T140847
CREATED:20221130T200422Z
LAST-MODIFIED:20221130T200422Z
UID:1553-1695839400-1695839400@www.vahdonvpk.net
SUMMARY:Maastosta pelastaminen ja kartan lukeminen
DESCRIPTION:
URL:https://www.vahdonvpk.net/tapahtuma/maastosta-pelastaminen-ja-kartan-lukeminen/
LOCATION:Paloasema
CATEGORIES:Hälytysosasto
END:VEVENT
BEGIN:VEVENT
DTSTART;TZID=Europe/Helsinki:20230920T183000
DTEND;TZID=Europe/Helsinki:20230920T183000
DTSTAMP:20260422T140847
CREATED:20221130T200408Z
LAST-MODIFIED:20221130T200408Z
UID:1552-1695234600-1695234600@www.vahdonvpk.net
SUMMARY:Potilaan siirto ja tukeminen
DESCRIPTION:
URL:https://www.vahdonvpk.net/tapahtuma/potilaan-siirto-ja-tukeminen/
LOCATION:Paloasema
CATEGORIES:Hälytysosasto
END:VEVENT
BEGIN:VEVENT
DTSTART;TZID=Europe/Helsinki:20230913T183000
DTEND;TZID=Europe/Helsinki:20230913T183000
DTSTAMP:20260422T140847
CREATED:20221130T200407Z
LAST-MODIFIED:20221130T200407Z
UID:1551-1694629800-1694629800@www.vahdonvpk.net
SUMMARY:Kohdetutustuminen varjotalli
DESCRIPTION:
URL:https://www.vahdonvpk.net/tapahtuma/kohdetutustuminen-varjotalli-2/
LOCATION:Paloasema
CATEGORIES:Hälytysosasto
END:VEVENT
BEGIN:VEVENT
DTSTART;TZID=Europe/Helsinki:20230906T183000
DTEND;TZID=Europe/Helsinki:20230906T183000
DTSTAMP:20260422T140847
CREATED:20221130T200407Z
LAST-MODIFIED:20221130T200407Z
UID:1550-1694025000-1694025000@www.vahdonvpk.net
SUMMARY:Tutustuminen eläinpelastusyksikköön (lemu/mietoinen)
DESCRIPTION:
URL:https://www.vahdonvpk.net/tapahtuma/tutustuminen-elainpelastusyksikkoon-lemu-mietoinen/
LOCATION:Paloasema
CATEGORIES:Hälytysosasto
END:VEVENT
BEGIN:VEVENT
DTSTART;TZID=Europe/Helsinki:20230830T183000
DTEND;TZID=Europe/Helsinki:20230830T183000
DTSTAMP:20260422T140847
CREATED:20221130T200407Z
LAST-MODIFIED:20221130T200407Z
UID:1549-1693420200-1693420200@www.vahdonvpk.net
SUMMARY:Tieliikennepelastaminen: potilaan irroittaminen
DESCRIPTION:
URL:https://www.vahdonvpk.net/tapahtuma/tieliikennepelastaminen-potilaan-irroittaminen/
LOCATION:Paloasema
CATEGORIES:Hälytysosasto
END:VEVENT
BEGIN:VEVENT
DTSTART;TZID=Europe/Helsinki:20230823T183000
DTEND;TZID=Europe/Helsinki:20230823T183000
DTSTAMP:20260422T140847
CREATED:20221130T200406Z
LAST-MODIFIED:20221130T200406Z
UID:1548-1692815400-1692815400@www.vahdonvpk.net
SUMMARY:Ajoneuvon stabilointi ja hydrauliset pelastusvälineet
DESCRIPTION:
URL:https://www.vahdonvpk.net/tapahtuma/ajoneuvon-stabilointi-ja-hydrauliset-pelastusvalineet/
LOCATION:Paloasema
CATEGORIES:Hälytysosasto
END:VEVENT
BEGIN:VEVENT
DTSTART;TZID=Europe/Helsinki:20230816T183000
DTEND;TZID=Europe/Helsinki:20230816T183000
DTSTAMP:20260422T140847
CREATED:20221130T200353Z
LAST-MODIFIED:20221130T200353Z
UID:1547-1692210600-1692210600@www.vahdonvpk.net
SUMMARY:Kylmäsavusukellus
DESCRIPTION:
URL:https://www.vahdonvpk.net/tapahtuma/kylmasavusukellus-2/
LOCATION:Paloasema
CATEGORIES:Hälytysosasto
END:VEVENT
END:VCALENDAR