BEGIN:VCALENDAR
VERSION:2.0
PRODID:-//Vahdon VPK - ECPv6.6.4.1//NONSGML v1.0//EN
CALSCALE:GREGORIAN
METHOD:PUBLISH
X-ORIGINAL-URL:https://www.vahdonvpk.net
X-WR-CALDESC:Events for Vahdon VPK
REFRESH-INTERVAL;VALUE=DURATION:PT1H
X-Robots-Tag:noindex
X-PUBLISHED-TTL:PT1H
BEGIN:VTIMEZONE
TZID:Europe/Helsinki
BEGIN:DAYLIGHT
TZOFFSETFROM:+0200
TZOFFSETTO:+0300
TZNAME:EEST
DTSTART:20230326T010000
END:DAYLIGHT
BEGIN:STANDARD
TZOFFSETFROM:+0300
TZOFFSETTO:+0200
TZNAME:EET
DTSTART:20231029T010000
END:STANDARD
END:VTIMEZONE
BEGIN:VEVENT
DTSTART;TZID=Europe/Helsinki:20230201T183000
DTEND;TZID=Europe/Helsinki:20230201T213000
DTSTAMP:20260424T182038
CREATED:20221130T200438Z
LAST-MODIFIED:20230130T141719Z
UID:1562-1675276200-1675287000@www.vahdonvpk.net
SUMMARY:Perehdytys uusi RVS221
DESCRIPTION:
URL:https://www.vahdonvpk.net/tapahtuma/perehdytys-uusi-rvs221-2/
LOCATION:Paloasema
CATEGORIES:Hälytysosasto
END:VEVENT
BEGIN:VEVENT
DTSTART;TZID=Europe/Helsinki:20230208T183000
DTEND;TZID=Europe/Helsinki:20230208T213000
DTSTAMP:20260424T182038
CREATED:20221130T200438Z
LAST-MODIFIED:20230130T141816Z
UID:1561-1675881000-1675891800@www.vahdonvpk.net
SUMMARY:Perehdytys uusi RVS221
DESCRIPTION:
URL:https://www.vahdonvpk.net/tapahtuma/perehdytys-uusi-rvs221/
LOCATION:Paloasema
CATEGORIES:Hälytysosasto
END:VEVENT
BEGIN:VEVENT
DTSTART;TZID=Europe/Helsinki:20230215T183000
DTEND;TZID=Europe/Helsinki:20230215T213000
DTSTAMP:20260424T182038
CREATED:20221130T191942Z
LAST-MODIFIED:20230130T142002Z
UID:1512-1676485800-1676496600@www.vahdonvpk.net
SUMMARY:Perusselvitys ja kylmäsavusukellus
DESCRIPTION:
URL:https://www.vahdonvpk.net/tapahtuma/perusselvitys-ja-kylmasavusukellus/
LOCATION:Paloasema
CATEGORIES:Hälytysosasto
END:VEVENT
BEGIN:VEVENT
DTSTART;TZID=Europe/Helsinki:20230222T183000
DTEND;TZID=Europe/Helsinki:20230222T183000
DTSTAMP:20260424T182038
CREATED:20221130T191943Z
LAST-MODIFIED:20221130T192425Z
UID:1515-1677090600-1677090600@www.vahdonvpk.net
SUMMARY:Viestiliikenne
DESCRIPTION:
URL:https://www.vahdonvpk.net/tapahtuma/viestiliikenne/
LOCATION:Paloasema
CATEGORIES:Hälytysosasto
END:VEVENT
END:VCALENDAR